Workbook

Sheet Bảng tổng hợp dự toán
A1: BỘ VĂN HÓA, THỂ THAO VÀ DU LỊCH TRƯỜNG CAO ĐẲNG DU LỊCH VŨNG TÀU
A3: DỰ TOÁN CHI PHÍ ĐÀO TẠO THÍ ĐIỂM TRÌNH ĐỘ CAO ĐẲNG NGHỀ TRỌNG ĐIỂM CẤP ĐỘ QUỐC TẾ CHUYỂN GIAO TỪ ĐỨC
A4: NGHỀ: QUẢN TRỊ KHÁCH SẠN
A6: A. Thông tin chung:
A7: STT | B7: Nội dung | C7: Đơn vị tính | D7: Số lượng | E7: Ghi chú
A8: 1 | B8: Số lớp | C8: Lớp | D8: 1
A9: 2 | B9: Số lượng sinh viên | C9: SV | D9: 16
A10: 3 | B10: Thời gian khóa học | C10: Năm | D10: 3
A11: 4 | B11: Tổng số giờ đào tạo: | C11: Giờ | D11: 5904
A12: 4.1 | B12: Số giờ các môn học chung | C12: Giờ | D12: 600
A13: 4.2 | B13: Số giờ các học phần chuyên môn | C13: Giờ | D13: 5304
A15: B. Dự toán chi phí đào tạo:
A16: STT | B16: Nội dung chi | C16: Số tiền (đồng) | E16: Ghi chú
A17: 1 | B17: Tài liệu học tập, giảng dạy | C17: ='PL1 Tai lieu'!G32 -> 23395200 | E17: Phụ lục số 1 | F17: 23395200
A18: 2 | B18: Chi tiền lương, phụ cấp lương và các khoản trích nộp theo lương của giáo viên trực tiếp tham gia giảng dạy | C18: =C19+C20 -> 1.2799837e+09 | E18: Phụ lục số 2
A19: 2.1 | B19: Chi tiền lương, phụ cấp lương của giáo viên | C19: ='PL2.1.Lương GV'!J73 -> 1.0813784e+09 | E19: Phụ lục số 2.1 | F19: ='PL2.1.Lương GV'!N73 -> 9.1153045e+08
A20: 2.2 | B20: Các khoản trích nộp theo lương của giáo viên | C20: ='PL2.2.Trích nộp lương GV'!N73 -> 1.9860525e+08 | E20: Phụ lục số 2.2 | F20: ='PL2.2.Trích nộp lương GV'!P73 -> 1.419291e+08
A21: 3 | B21: Chi phí đào tạo ngoại ngữ chuyên ngành | C21: ='PL3. Ngoai ngữ'!F13 -> 474100000 | E21: Phụ lục số 3 | F21: 423500000 | G21: Lấy bằng Hà Nội
A22: 4 | B22: Chi phí vật tư để học tập và thi tốt nghiệp | C22: ='PL4.Vật tư'!F783 -> 4.6247406e+09 | E22: Phụ lục số 4 | F22: ='PL4.Vật tư'!I783 -> 3.0393709e+09
A23: 5 | B23: Chi phí điện, nước | C23: ='PL5.Điện nước'!I109 -> 393960900 | E23: Phụ lục số 5 | F23: ='PL5.Điện nước'!J109 -> 3.3225381e+08
A24: 6 | B24: Chi phí sửa chữa nhỏ tài sản, trang thiết bị đào tạo | C24: ='PL6. Sua chua TX'!G56 -> 161950000 | E24: Phụ lục số 6 | F24: =C24 -> 161950000 | G24: Lấy bằng đơn vị do thấp nhất trong 4 đơn vị
A25: 7 | B25: Chi phí công tác quản lý lớp học | C25: ='PL7.Quản lý'!F24 -> 369600000 | E25: Phụ lục số 7 | F25: 331800000 | G25: (Lấy bằng Hà Nội)
A26: 8 | B26: Chi học bổng cho sinh viên | C26: ='PL8.Học bổng'!F12 -> 68040000 | E26: Phụ lục số 8 | F26: =D30*15% -> 68040000
A27: Tổng dự toán chi phí đào tạo cho 01 lớp | C27: =C17+C18+C21+C22+C23+C24+C25+C26 -> 7.3957704e+09 | F27: =SUM(F17:F26) -> 5.4337695e+09
A29: Trong đó nguồn:
B30: 1. Thu học phí theo quy định hiện hành: | D30: 453600000
B31: 2. Ngân sách nhà nước hỗ trợ: | D31: =C27-D30 -> 6.9421704e+09 | F31: =F27-D30 -> 4.9801695e+09
A32: Ghi chú:
B33: Dự toán chưa bao gồm:
B34: Chi phí tài liệu của Đức, chi phí mua phôi bằng của Đức, chuyên gia tham gia trong việc ra đề thi, tổ chức coi, chấm thi, chi phí quản lý cấp bằng của Đức
D35: HIỆU TRƯỞNG

Sheet PL1 Tai lieu
B1: Phụ lục 1:
A3: DỰ TOÁN CHI PHÍ TÀI LIỆU HỌC TẬP, GIẢNG DẠY
A5: TT | B5: Nội dung | C5: Nhà xuất bản | D5: ĐVT | E5: Số lượng | F5: Đơn giá | G5: Thành tiền
A6: I. TIN HỌC
A7: 1 | B7: Giáo trình Tin học đại cương | C7: NXB Lao động - Xã hội | D7: Quyển | E7: 20 | F7: 54000 | G7: 1080000
A8: 2 | B8: Giáo trình Tin học cơ bản | C8: NXB Lao động - Xã hội | D8: Quyển | E8: 20 | F8: 30000 | G8: 600000
A9: 3 | B9: Hướng dẫn tự học Microsoft Word 2013 | C9: NXB Từ điển Bách Khoa | D9: Quyển | E9: 20 | F9: 64800 | G9: 1296000
A10: 4 | B10: Hướng dẫn tự học Microsoft Excel 2013 | C10: NXB Từ điển Bách Khoa | D10: Quyển | E10: 20 | F10: 86400 | G10: 1728000
A11: II. PHÁP LUẬT
A12: 1 | B12: Pháp luật đại cương | C12: NXB Chính trị Quốc gia | D12: Quyển | E12: 20 | F12: 66000 | G12: 1320000
A13: 2 | B13: Giáo trình Pháp luật (Dùng cho hệ CĐ nghề) | C13: NXB Lao động - Xã hội | D13: Quyển | E13: 20 | F13: 30000 | G13: 600000
A14: 3 | B14: Giáo trình Pháp luật đại cương | C14: NXB Chính trị Quốc gia | D14: Quyển | E14: 20 | F14: 129600 | G14: 2592000
A15: 4 | B15: Pháp luật đại cương | C15: NXB ĐHQG TPHCM | D15: Quyển | E15: 20 | F15: 17520 | G15: 350400
A16: 5 | B16: Luật Du lịch | C16: NXB Lao động - Xã hội | D16: Quyển | E16: 20 | F16: 18000 | G16: 360000
A17: III. CHÍNH TRỊ
A18: 1 | B18: Giáo trình Chính trị | C18: NXB Giáo dục Việt Nam | D18: Quyển | E18: 20 | F18: 34800 | G18: 696000
A19: 2 | B19: Giáo trình Chính trị (dùng cho hệ Cao đẳng nghề) | C19: NXB Lao động - Xã hội | D19: Quyển | E19: 20 | F19: 30000 | G19: 600000
A20: 3 | B20: Giáo trình Tư tưởng Hồ Chí Minh | C20: NXB Chính trị | D20: Quyển | E20: 20 | F20: 26400 | G20: 528000
A21: 4 | B21: Giáo trình Đường lối Cách mạng của Đảng Cộng Sản Việt Nam | C21: NXBChính trị | D21: Quyển | E21: 20 | F21: 26400 | G21: 528000
A22: 5 | B22: Giáo trình Kinh tế chính trị | D22: Quyển | E22: 20 | F22: 36000 | G22: 720000
A23: IV. GIÁO DỤC QUỐC PHÒNG VÀ AN NINH
A24: 1 | B24: Giáo trình Giáo dục Quốc phòng và An ninh | C24: NXB Lao động - Xã hội | D24: Quyển | E24: 20 | F24: 60000 | G24: 1200000
A25: 2 | B25: Tài liệu photo | D25: Quyển | E25: 20 | F25: 30000 | G25: 600000
A26: V. GIÁO DỤC THỂ CHẤT
A27: 1 | B27: Tài liệu photo (50 trang) | D27: Quyển | E27: 20 | F27: 30000 | G27: 600000
A28: VI. SỔ SÁCH CHUYÊN MÔN
A29: 1 | B29: Sổ lên lớp (76 trang/quyển/học kỳ) | D29: Quyển | E29: 5 | F29: 45600 | G29: 228000
A30: 2 | B30: Sổ giáo án (300 trang/1 quyển/1 môn * 39 môn) | D30: Quyển | E30: 39 | F30: 180000 | G30: 7020000
A31: 3 | B31: Sổ tay giáo viên (32 trang/ 1 quyển/ 1 môn * 39 môn) | D31: Quyển | E31: 39 | F31: 19200 | G31: 748800
A32: TỔNG CỘNG | E32: 423 | G32: 23395200
B34: Giá trên đã bao gồm 10% VAT và 10% vận chuyển
B35: Các tài liệu của Đức không tính dự toán được vì không có báo giá.

Sheet PL2.1.Lương GV
B1: Phụ lục 2:
B2: Phụ lục 2.1:
B3: LƯƠNG, PHỤ CẤP LƯƠNG CỦA GIẢNG VIÊN
B4: NGHỀ QUẢN TRỊ KHÁCH SẠN
A6: TT | B6: Mã MH | C6: Tên môn học/học phần | D6: Số giờ giảng dạy | E6: Tên giảng viên | F6: Tổng cộng hệ số | G6: Phụ cấp GV 30% | H6: Tổng lương trong năm | I6: Đơn giá (đồng/giờ) | J6: Thành tiền | K6: Tổng lương trong năm | L6: Đơn giá 01 giờ | M6: Phụ cấp đứng lớp | N6: Thành tiền
A7: (1) | B7: (2) | C7: (3) | D7: (4) | E7: (5) | F7: (6) | H7: (7) | I7: (8) | J7: (9)=4*8
A8: I | C8: PHẦN CÁC MÔN CHUNG | D8: 600
A9: 1 | C9: Pháp luật | D9: 30 | E9: Lê Bá Định | F9: 3.78 | G9: =(F9*1590000*12+ F9*1590000*12*7%)*30% -> 23151290 | H9: =(F9*1590000*12+F9*1590000*12*7%)+G9 -> 1.0032226e+08 | I9: =(H9/450*32)/52*1.2 -> 164631.4 | J9: =I9*D9 -> 4938942 | K9: =F9*1490000*12 -> 67586400 | L9: =(K9/450)*(32/52) -> 92425.846 | M9: =L9*0.3*D9 -> 831832.62 | N9: =M9+L9*1.2*D9 -> 4159163.1
A10: 2 | C10: Giáo dục thể chất | D10: 60 | E10: Nguyễn Văn Hạ | F10: 5.141 | G10: =(F10*1590000*12+ F10*1590000*12*7%)*30% -> 31486980 | H10: =(F10*1590000*12+F10*1590000*12*7%)+G10 -> 1.3644358e+08 | I10: =(H10/450*32)/52*1.2 -> 223907.41 | J10: =I10*D10 -> 13434445 | K10: =F10*1490000*12 -> 91921080 | L10: =(K10/450)*(32/52) -> 125704.04 | M10: =L10*0.3*D10 -> 2262672.7 | N10: =M10+L10*1.2*D10 -> 11313364
A11: 3 | C11: Giáo dục quốc phòng và an ninh | D11: 75 | E11: Hợp đồng với Trường Quân Sự: 16SVx350,000đ | G11: =(F11*1590000*12+ F11*1590000*12*7%)*30% -> 0 | H11: =(F11*1590000*12+F11*1590000*12*7%)+G11 -> 0 | I11: 350000 | J11: =I11*16 -> 5600000 | K11: =F11*1490000*12 -> 0 | L11: =(K11/450)*(32/52) -> 0 | M11: =L11*0.3*D11 -> 0 | N11: 5600000
A12: 4 | C12: Tin học | D12: 75 | E12: Lương Thị Mận | F12: 5.011 | G12: =(F12*1590000*12+ F12*1590000*12*7%)*30% -> 30690771 | H12: =(F12*1590000*12+F12*1590000*12*7%)+G12 -> 1.3299334e+08 | I12: =(H12/450*32)/52*1.2 -> 218245.49 | J12: =I12*D12 -> 16368411 | K12: =F12*1490000*12 -> 89596680 | L12: =(K12/450)*(32/52) -> 122525.37 | M12: =L12*0.3*D12 -> 2756820.9 | N12: =M12+L12*1.2*D12 -> 13784105
A13: 5 | C13: Ngoại ngữ | D13: 360 | E13: Trương Phụng Hoàng | F13: 6.848 | G13: =(F13*1590000*12+ F13*1590000*12*7%)*30% -> 41941809 | H13: =(F13*1590000*12+F13*1590000*12*7%)+G13 -> 1.8174784e+08 | I13: =(H13/450*32)/52*1.2 -> 298252.86 | J13: =I13*D13 -> 1.0737103e+08 | K13: =F13*1490000*12 -> 122442240 | L13: =(K13/450)*(32/52) -> 167442.38 | M13: =L13*0.3*D13 -> 18083777 | N13: =M13+L13*1.2*D13 -> 90418885
A14: II | C14: LÝ THUYẾT CHUNG CHO CÁC NGHỀ | D14: =SUM(D15:D41) -> 240 | K14: =F14*1490000*12 -> 0 | L14: =(K14/450)*(32/52) -> 0 | M14: =L14*0.3*D14 -> 0 | N14: =M14+L14*1.2*D14 -> 0
A15: 1 | C15: Giáo dục Chính trị | D15: =30*3 -> 90 | E15: Lê Bá Định | F15: 3.78 | G15: =(F15*1590000*12+ F15*1590000*12*7%)*30% -> 23151290 | H15: =(F15*1590000*12+F15*1590000*12*7%)+G15 -> 1.0032226e+08 | I15: =(H15/450*32)/52*1.2 -> 164631.4 | J15: =I15*D15 -> 14816826 | K15: =F15*1490000*12 -> 67586400 | L15: =(K15/450)*(32/52) -> 92425.846 | M15: =L15*0.3*D15 -> 2495497.8 | N15: =M15+L15*1.2*D15 -> 12477489
C16: Kinh tế học và xã hội học: 150 giờ | G16: =(F16*1590000*12+ F16*1590000*12*7%)*30% -> 0 | H16: =(F16*1590000*12+F16*1590000*12*7%)+G16 -> 0 | I16: =(H16/450*32)/52*1.2 -> 0 | K16: =F16*1490000*12 -> 0 | L16: =(K16/450)*(32/52) -> 0 | M16: =L16*0.3*D16 -> 0 | N16: =M16+L16*1.2*D16 -> 0
C17: Phần Kinh tế học (120 giờ) | G17: =(F17*1590000*12+ F17*1590000*12*7%)*30% -> 0 | H17: =(F17*1590000*12+F17*1590000*12*7%)+G17 -> 0 | I17: =(H17/450*32)/52*1.2 -> 0 | K17: =F17*1490000*12 -> 0 | L17: =(K17/450)*(32/52) -> 0 | M17: =L17*0.3*D17 -> 0 | N17: =M17+L17*1.2*D17 -> 0
A18: 2 | C18: Những nền tảng của kinh tế | D18: 14 | E18: Vương Thị Hằng | F18: 3.58 | G18: =(F18*1590000*12+ F18*1590000*12*7%)*30% -> 21926354 | H18: =(F18*1590000*12+F18*1590000*12*7%)+G18 -> 95014202 | I18: =(H18/450*32)/52*1.2 -> 155920.74 | J18: =I18*D18 -> 2182890.4 | K18: =F18*1490000*12 -> 64010400 | L18: =(K18/450)*(32/52) -> 87535.59 | M18: =L18*0.3*D18 -> 367649.48 | N18: =M18+L18*1.2*D18 -> 1838247.4
A19: 3 | C19: Hợp đồng đào tạo nghề | D19: 8 | E19: Phan Thị Xuân Trang | F19: 5.976 | G19: =(F19*1590000*12+ F19*1590000*12*7%)*30% -> 36601088 | H19: =(F19*1590000*12+F19*1590000*12*7%)+G19 -> 1.5860471e+08 | I19: =(H19/450*32)/52*1.2 -> 260274.4 | J19: =I19*D19 -> 2082195.2 | K19: =F19*1490000*12 -> 106850880 | L19: =(K19/450)*(32/52) -> 146120.86 | M19: =L19*0.3*D19 -> 350690.07 | N19: =M19+L19*1.2*D19 -> 1753450.3
A20: 4 | C20: Những nền tảng của luật hợp đồng | D20: 8 | E20: Trần Đình Sơn | F20: 3 | G20: =(F20*1590000*12+ F20*1590000*12*7%)*30% -> 18374040 | H20: =(F20*1590000*12+F20*1590000*12*7%)+G20 -> 79620840 | I20: =(H20/450*32)/52*1.2 -> 130659.84 | J20: =I20*D20 -> 1045278.7 | K20: =F20*1490000*12 -> 53640000 | L20: =(K20/450)*(32/52) -> 73353.846 | M20: =L20*0.3*D20 -> 176049.23 | N20: =M20+L20*1.2*D20 -> 880246.15
A21: 5 | C21: Những chủ đề hiện tại và đi sâu nội dung chương trình của năm học thứ nhất | D21: 10 | E21: Nguyễn Tuấn Kiệt | F21: 4.531 | G21: =(F21*1590000*12+ F21*1590000*12*7%)*30% -> 27750925 | H21: =(F21*1590000*12+F21*1590000*12*7%)+G21 -> 1.2025401e+08 | I21: =(H21/450*32)/52*1.2 -> 197339.91 | J21: =I21*D21 -> 1973399.1 | K21: =F21*1490000*12 -> 81014280 | L21: =(K21/450)*(32/52) -> 110788.76 | M21: =L21*0.3*D21 -> 332366.28 | N21: =M21+L21*1.2*D21 -> 1661831.4
A22: 6 | C22: Các điều chỉnh pháp lý của hợp đồng mua hàng | D22: 10 | E22: Trần Đình Sơn | F22: 3 | G22: =(F22*1590000*12+ F22*1590000*12*7%)*30% -> 18374040 | H22: =(F22*1590000*12+F22*1590000*12*7%)+G22 -> 79620840 | I22: =(H22/450*32)/52*1.2 -> 130659.84 | J22: =I22*D22 -> 1306598.4 | K22: =F22*1490000*12 -> 53640000 | L22: =(K22/450)*(32/52) -> 73353.846 | M22: =L22*0.3*D22 -> 220061.54 | N22: =M22+L22*1.2*D22 -> 1100307.7
A23: 7 | C23: Bảo vệ người tiêu dùng | D23: 4 | E23: Trần Đình Sơn | F23: 3 | G23: =(F23*1590000*12+ F23*1590000*12*7%)*30% -> 18374040 | H23: =(F23*1590000*12+F23*1590000*12*7%)+G23 -> 79620840 | I23: =(H23/450*32)/52*1.2 -> 130659.84 | J23: =I23*D23 -> 522639.36 | K23: =F23*1490000*12 -> 53640000 | L23: =(K23/450)*(32/52) -> 73353.846 | M23: =L23*0.3*D23 -> 88024.615 | N23: =M23+L23*1.2*D23 -> 440123.08
A24: 8 | C24: Luật Lao động bao gồm luật tác quyền | D24: 10 | E24: Phan Thị Xuân Trang | F24: 5.976 | G24: =(F24*1590000*12+ F24*1590000*12*7%)*30% -> 36601088 | H24: =(F24*1590000*12+F24*1590000*12*7%)+G24 -> 1.5860471e+08 | I24: =(H24/450*32)/52*1.2 -> 260274.4 | J24: =I24*D24 -> 2602744 | K24: =F24*1490000*12 -> 106850880 | L24: =(K24/450)*(32/52) -> 146120.86 | M24: =L24*0.3*D24 -> 438362.58 | N24: =M24+L24*1.2*D24 -> 2191812.9
A25: 9 | C25: Luật hợp đồng tập thể | D25: 6 | E25: Phan Thị Xuân Trang | F25: 5.976 | G25: =(F25*1590000*12+ F25*1590000*12*7%)*30% -> 36601088 | H25: =(F25*1590000*12+F25*1590000*12*7%)+G25 -> 1.5860471e+08 | I25: =(H25/450*32)/52*1.2 -> 260274.4 | J25: =I25*D25 -> 1561646.4 | K25: =F25*1490000*12 -> 106850880 | L25: =(K25/450)*(32/52) -> 146120.86 | M25: =L25*0.3*D25 -> 263017.55 | N25: =M25+L25*1.2*D25 -> 1315087.8
A26: 10 | C26: Những chủ đề hiện tại và đi sâu nội dung chương trình của năm học thứ 2 | D26: 10 | E26: Phan Thị Xuân Trang | F26: 5.976 | G26: =(F26*1590000*12+ F26*1590000*12*7%)*30% -> 36601088 | H26: =(F26*1590000*12+F26*1590000*12*7%)+G26 -> 1.5860471e+08 | I26: =(H26/450*32)/52*1.2 -> 260274.4 | J26: =I26*D26 -> 2602744 | K26: =F26*1490000*12 -> 106850880 | L26: =(K26/450)*(32/52) -> 146120.86 | M26: =L26*0.3*D26 -> 438362.58 | N26: =M26+L26*1.2*D26 -> 2191812.9
A27: 11 | C27: Thu nhập, Thuế | D27: 8 | E27: Nguyễn Tuấn Kiệt | F27: 4.531 | G27: =(F27*1590000*12+ F27*1590000*12*7%)*30% -> 27750925 | H27: =(F27*1590000*12+F27*1590000*12*7%)+G27 -> 1.2025401e+08 | I27: =(H27/450*32)/52*1.2 -> 197339.91 | J27: =I27*D27 -> 1578719.3 | K27: =F27*1490000*12 -> 81014280 | L27: =(K27/450)*(32/52) -> 110788.76 | M27: =L27*0.3*D27 -> 265893.02 | N27: =M27+L27*1.2*D27 -> 1329465.1
A28: 12 | C28: Doanh nghiệp, Thành Lập doanh nghiệp | D28: 10 | E28: Vương Thị Hằng | F28: 3.58 | G28: =(F28*1590000*12+ F28*1590000*12*7%)*30% -> 21926354 | H28: =(F28*1590000*12+F28*1590000*12*7%)+G28 -> 95014202 | I28: =(H28/450*32)/52*1.2 -> 155920.74 | J28: =I28*D28 -> 1559207.4 | K28: =F28*1490000*12 -> 64010400 | L28: =(K28/450)*(32/52) -> 87535.59 | M28: =L28*0.3*D28 -> 262606.77 | N28: =M28+L28*1.2*D28 -> 1313033.8
A29: 13 | C29: Trật tự kinh tế của CHLB Đức | D29: 6 | E29: Vương Thị Hằng | F29: 3.58 | G29: =(F29*1590000*12+ F29*1590000*12*7%)*30% -> 21926354 | H29: =(F29*1590000*12+F29*1590000*12*7%)+G29 -> 95014202 | I29: =(H29/450*32)/52*1.2 -> 155920.74 | J29: =I29*D29 -> 935524.45 | K29: =F29*1490000*12 -> 64010400 | L29: =(K29/450)*(32/52) -> 87535.59 | M29: =L29*0.3*D29 -> 157564.06 | N29: =M29+L29*1.2*D29 -> 787820.31
... A31: 15 | C31: Những chủ đề hiện tại và đi sâu nội dung chương trình của năm học thứ 3 | D31: 10 | E31: Nguyễn Tuấn Kiệt | F31: 4.531 | G31: =(F31*1590000*12+ F31*1590000*12*7%)*30% -> 27750925 | H31: =(F31*1590000*12+F31*1590000*12*7%)+G31 -> 1.2025401e+08 | I31: =(H31/450*32)/52*1.2 -> 197339.91 | J31: =I31*D31 -> 1973399.1 | K31: =F31*1490000*12 -> 81014280 | L31: =(K31/450)*(32/52) -> 110788.76 | M31: =L31*0.3*D31 -> 332366.28 | N31: =M31+L31*1.2*D31 -> 1661831.4
C32: Phần xã hội học (30 giờ) | G32: =(F32*1590000*12+ F32*1590000*12*7%)*30% -> 0 | H32: =(F32*1590000*12+F32*1590000*12*7%)+G32 -> 0 | I32: =(H32/450*32)/52*1.2 -> 0 | K32: =F32*1490000*12 -> 0 | L32: =(K32/450)*(32/52) -> 0 | M32: =L32*0.3*D32 -> 0 | N32: =M32+L32*1.2*D32 -> 0
A33: 16 | C33: Đào tạo nghề nghiệp | D33: 3 | E33: Phan Thị Xuân Trang | F33: 5.976 | G33: =(F33*1590000*12+ F33*1590000*12*7%)*30% -> 36601088 | H33: =(F33*1590000*12+F33*1590000*12*7%)+G33 -> 1.5860471e+08 | I33: =(H33/450*32)/52*1.2 -> 260274.4 | J33: =I33*D33 -> 780823.2 | K33: =F33*1490000*12 -> 106850880 | L33: =(K33/450)*(32/52) -> 146120.86 | M33: =L33*0.3*D33 -> 131508.78 | N33: =M33+L33*1.2*D33 -> 657543.88
A34: 17 | C34: Các hệ thống xã hội | D34: 3 | E34: Phan Thị Xuân Trang | F34: 5.976 | G34: =(F34*1590000*12+ F34*1590000*12*7%)*30% -> 36601088 | H34: =(F34*1590000*12+F34*1590000*12*7%)+G34 -> 1.5860471e+08 | I34: =(H34/450*32)/52*1.2 -> 260274.4 | J34: =I34*D34 -> 780823.2 | K34: =F34*1490000*12 -> 106850880 | L34: =(K34/450)*(32/52) -> 146120.86 | M34: =L34*0.3*D34 -> 131508.78 | N34: =M34+L34*1.2*D34 -> 657543.88
A35: 18 | C35: Các mỗi quan hệ xã hội | D35: 2 | E35: Phan Thị Xuân Trang | F35: 5.976 | G35: =(F35*1590000*12+ F35*1590000*12*7%)*30% -> 36601088 | H35: =(F35*1590000*12+F35*1590000*12*7%)+G35 -> 1.5860471e+08 | I35: =(H35/450*32)/52*1.2 -> 260274.4 | J35: =I35*D35 -> 520548.8 | K35: =F35*1490000*12 -> 106850880 | L35: =(K35/450)*(32/52) -> 146120.86 | M35: =L35*0.3*D35 -> 87672.517 | N35: =M35+L35*1.2*D35 -> 438362.58
A36: 19 | C36: Các chủ đề hiện hành và đi sâu nội dung chương trình | D36: 2 | E36: Phan Thị Xuân Trang | F36: 5.976 | G36: =(F36*1590000*12+ F36*1590000*12*7%)*30% -> 36601088 | H36: =(F36*1590000*12+F36*1590000*12*7%)+G36 -> 1.5860471e+08 | I36: =(H36/450*32)/52*1.2 -> 260274.4 | J36: =I36*D36 -> 520548.8 | K36: =F36*1490000*12 -> 106850880 | L36: =(K36/450)*(32/52) -> 146120.86 | M36: =L36*0.3*D36 -> 87672.517 | N36: =M36+L36*1.2*D36 -> 438362.58
A37: 20 | C37: Nền trật tự cơ bản, sự đại diện và Quyền tham gia tại đất nước của mình | D37: 5 | E37: Vương Thị Hằng | F37: 3.58 | G37: =(F37*1590000*12+ F37*1590000*12*7%)*30% -> 21926354 | H37: =(F37*1590000*12+F37*1590000*12*7%)+G37 -> 95014202 | I37: =(H37/450*32)/52*1.2 -> 155920.74 | J37: =I37*D37 -> 779603.71 | K37: =F37*1490000*12 -> 64010400 | L37: =(K37/450)*(32/52) -> 87535.59 | M37: =L37*0.3*D37 -> 131303.38 | N37: =M37+L37*1.2*D37 -> 656516.92
A38: 21 | C38: Các quá trình quyết định trong bộ máy chính trị | D38: 5 | E38: Vương Thị Hằng | F38: 3.58 | G38: =(F38*1590000*12+ F38*1590000*12*7%)*30% -> 21926354 | H38: =(F38*1590000*12+F38*1590000*12*7%)+G38 -> 95014202 | I38: =(H38/450*32)/52*1.2 -> 155920.74 | J38: =I38*D38 -> 779603.71 | K38: =F38*1490000*12 -> 64010400 | L38: =(K38/450)*(32/52) -> 87535.59 | M38: =L38*0.3*D38 -> 131303.38 | N38: =M38+L38*1.2*D38 -> 656516.92
A39: 22 | C39: Toàn cầu hóa | D39: 4 | E39: Trần Đình Sơn | F39: 3 | G39: =(F39*1590000*12+ F39*1590000*12*7%)*30% -> 18374040 | H39: =(F39*1590000*12+F39*1590000*12*7%)+G39 -> 79620840 | I39: =(H39/450*32)/52*1.2 -> 130659.84 | J39: =I39*D39 -> 522639.36 | K39: =F39*1490000*12 -> 53640000 | L39: =(K39/450)*(32/52) -> 73353.846 | M39: =L39*0.3*D39 -> 88024.615 | N39: =M39+L39*1.2*D39 -> 440123.08
A40: 23 | C40: Môi trường | D40: 4 | E40: Trần Đình Sơn | F40: 3 | G40: =(F40*1590000*12+ F40*1590000*12*7%)*30% -> 18374040 | H40: =(F40*1590000*12+F40*1590000*12*7%)+G40 -> 79620840 | I40: =(H40/450*32)/52*1.2 -> 130659.84 | J40: =I40*D40 -> 522639.36 | K40: =F40*1490000*12 -> 53640000 | L40: =(K40/450)*(32/52) -> 73353.846 | M40: =L40*0.3*D40 -> 88024.615 | N40: =M40+L40*1.2*D40 -> 440123.08
A41: 24 | C41: Hòa bình và sự an toàn | D41: 2 | E41: Trần Đình Sơn | F41: 3 | G41: =(F41*1590000*12+ F41*1590000*12*7%)*30% -> 18374040 | H41: =(F41*1590000*12+F41*1590000*12*7%)+G41 -> 79620840 | I41: =(H41/450*32)/52*1.2 -> 130659.84 | J41: =I41*D41 -> 261319.68 | K41: =F41*1490000*12 -> 53640000 | L41: =(K41/450)*(32/52) -> 73353.846 | M41: =L41*0.3*D41 -> 44012.308 | N41: =M41+L41*1.2*D41 -> 220061.54
A42: III | C42: LÝ THUYẾT NGHỀ | D42: =SUM(D43:D53) -> 880 | J42: =I42*D42 -> 0 | K42: =F42*1490000*12 -> 0 | L42: =(K42/450)*(32/52) -> 0 | M42: =L42*0.3*D42 -> 0 | N42: =M42+L42*1.2*D42 -> 0
A43: 1 | C43: Làm việc trong bộ phận bếp | D43: 140 | E43: Phan Thị Xuân Trang | F43: 5.976 | G43: =(F43*1590000*12+ F43*1590000*12*7%)*30% -> 36601088 | H43: =(F43*1590000*12+F43*1590000*12*7%)+G43 -> 1.5860471e+08 | I43: =(H43/450*32)/52*1.2 -> 260274.4 | J43: =I43*D43 -> 36438416 | K43: =F43*1490000*12 -> 106850880 | L43: =(K43/450)*(32/52) -> 146120.86 | M43: =L43*0.3*D43 -> 6137076.2 | N43: =M43+L43*1.2*D43 -> 30685381
A44: 2 | C44: Làm việc trong bộ phận dịch vụ | D44: 120 | E44: Vương Thị Hằng | F44: 3.58 | G44: =(F44*1590000*12+ F44*1590000*12*7%)*30% -> 21926354 | H44: =(F44*1590000*12+F44*1590000*12*7%)+G44 -> 95014202 | I44: =(H44/450*32)/52*1.2 -> 155920.74 | J44: =I44*D44 -> 18710489 | K44: =F44*1490000*12 -> 64010400 | L44: =(K44/450)*(32/52) -> 87535.59 | M44: =L44*0.3*D44 -> 3151281.2 | N44: =M44+L44*1.2*D44 -> 15756406
A45: 3 | C45: Làm việc trong kho chứa hàng | D45: 60 | E45: Trần Đình Sơn | F45: 3 | G45: =(F45*1590000*12+ F45*1590000*12*7%)*30% -> 18374040 | H45: =(F45*1590000*12+F45*1590000*12*7%)+G45 -> 79620840 | I45: =(H45/450*32)/52*1.2 -> 130659.84 | J45: =I45*D45 -> 7839590.4 | K45: =F45*1490000*12 -> 53640000 | L45: =(K45/450)*(32/52) -> 73353.846 | M45: =L45*0.3*D45 -> 1320369.2 | N45: =M45+L45*1.2*D45 -> 6601846.2
A46: 4 | C46: Tư vấn và bán hàng trong nhà hàng | D46: 100 | E46: Trần Đình Sơn | F46: 3 | G46: =(F46*1590000*12+ F46*1590000*12*7%)*30% -> 18374040 | H46: =(F46*1590000*12+F46*1590000*12*7%)+G46 -> 79620840 | I46: =(H46/450*32)/52*1.2 -> 130659.84 | J46: =I46*D46 -> 13065984 | K46: =F46*1490000*12 -> 53640000 | L46: =(K46/450)*(32/52) -> 73353.846 | M46: =L46*0.3*D46 -> 2200615.4 | N46: =M46+L46*1.2*D46 -> 11003077
A47: 5 | C47: Marketing | D47: 80 | E47: Trần Đình Sơn | F47: 3 | G47: =(F47*1590000*12+ F47*1590000*12*7%)*30% -> 18374040 | H47: =(F47*1590000*12+F47*1590000*12*7%)+G47 -> 79620840 | I47: =(H47/450*32)/52*1.2 -> 130659.84 | J47: =I47*D47 -> 10452787 | K47: =F47*1490000*12 -> 53640000 | L47: =(K47/450)*(32/52) -> 73353.846 | M47: =L47*0.3*D47 -> 1760492.3 | N47: =M47+L47*1.2*D47 -> 8802461.5
A48: 6 | C48: Dịch vụ quản trị | D48: 40 | E48: Trần Đình Sơn | F48: 3 | G48: =(F48*1590000*12+ F48*1590000*12*7%)*30% -> 18374040 | H48: =(F48*1590000*12+F48*1590000*12*7%)+G48 -> 79620840 | I48: =(H48/450*32)/52*1.2 -> 130659.84 | J48: =I48*D48 -> 5226393.6 | K48: =F48*1490000*12 -> 53640000 | L48: =(K48/450)*(32/52) -> 73353.846 | M48: =L48*0.3*D48 -> 880246.15 | N48: =M48+L48*1.2*D48 -> 4401230.8
A49: 7 | C49: Quản trị hàng hóa | D49: 60 | E49: Phan Thị Xuân Trang | F49: 5.976 | G49: =(F49*1590000*12+ F49*1590000*12*7%)*30% -> 36601088 | H49: =(F49*1590000*12+F49*1590000*12*7%)+G49 -> 1.5860471e+08 | I49: =(H49/450*32)/52*1.2 -> 260274.4 | J49: =I49*D49 -> 15616464 | K49: =F49*1490000*12 -> 106850880 | L49: =(K49/450)*(32/52) -> 146120.86 | M49: =L49*0.3*D49 -> 2630175.5 | N49: =M49+L49*1.2*D49 -> 13150878
A50: 8 | C50: Quản trị nhân sự | D50: 60 | E50: Vương Thị Hằng | F50: 3.58 | G50: =(F50*1590000*12+ F50*1590000*12*7%)*30% -> 21926354 | H50: =(F50*1590000*12+F50*1590000*12*7%)+G50 -> 95014202 | I50: =(H50/450*32)/52*1.2 -> 155920.74 | J50: =I50*D50 -> 9355244.5 | K50: =F50*1490000*12 -> 64010400 | L50: =(K50/450)*(32/52) -> 87535.59 | M50: =L50*0.3*D50 -> 1575640.6 | N50: =M50+L50*1.2*D50 -> 7878203.1
A51: 9 | C51: Tiến hành vận hành doanh nghiệp dưới góc độ kinh doanh | D51: 100 | E51: Nguyễn Tuấn Kiệt | F51: 4.531 | G51: =(F51*1590000*12+ F51*1590000*12*7%)*30% -> 27750925 | H51: =(F51*1590000*12+F51*1590000*12*7%)+G51 -> 1.2025401e+08 | I51: =(H51/450*32)/52*1.2 -> 197339.91 | J51: =I51*D51 -> 19733991 | K51: =F51*1490000*12 -> 81014280 | L51: =(K51/450)*(32/52) -> 110788.76 | M51: =L51*0.3*D51 -> 3323662.8 | N51: =M51+L51*1.2*D51 -> 16618314
A52: 10 | C52: Điều khiển và Kiểm soát các quá trình trong doanh nghiệp | D52: 100 | E52: Nguyễn Tuấn Kiệt | F52: 4.531 | G52: =(F52*1590000*12+ F52*1590000*12*7%)*30% -> 27750925 | H52: =(F52*1590000*12+F52*1590000*12*7%)+G52 -> 1.2025401e+08 | I52: =(H52/450*32)/52*1.2 -> 197339.91 | J52: =I52*D52 -> 19733991 | K52: =F52*1490000*12 -> 81014280 | L52: =(K52/450)*(32/52) -> 110788.76 | M52: =L52*0.3*D52 -> 3323662.8 | N52: =M52+L52*1.2*D52 -> 16618314
A53: 11 | C53: Tổ chức sự kiện | D53: 20 | E53: Nguyễn Tuấn Kiệt | F53: 4.531 | G53: =(F53*1590000*12+ F53*1590000*12*7%)*30% -> 27750925 | H53: =(F53*1590000*12+F53*1590000*12*7%)+G53 -> 1.2025401e+08 | I53: =(H53/450*32)/52*1.2 -> 197339.91 | J53: =I53*D53 -> 3946798.2 | K53: =F53*1490000*12 -> 81014280 | L53: =(K53/450)*(32/52) -> 110788.76 | M53: =L53*0.3*D53 -> 664732.55 | N53: =M53+L53*1.2*D53 -> 3323662.8
A54: IV | C54: THỰC HÀNH NGHỀ | D54: =SUM(D55:D71) -> 3344 | K54: =F54*1490000*12 -> 0 | L54: =(K54/450)*(32/52) -> 0 | M54: =L54*0.3*D54 -> 0 | N54: =M54+L54*1.2*D54 -> 0
A55: 1 | C55: Ứng xử với khách hàng và tư vấn bán hàng | D55: 216 | E55: Trần Đình Sơn | F55: 3 | G55: =(F55*1590000*12+ F55*1590000*12*7%)*30% -> 18374040 | H55: =(F55*1590000*12+F55*1590000*12*7%)+G55 -> 79620840 | I55: =(H55/450*32)/52*1.2 -> 130659.84 | J55: =I55*D55 -> 28222525 | K55: =F55*1490000*12 -> 53640000 | L55: =(K55/450)*(32/52) -> 73353.846 | M55: =L55*0.3*D55 -> 4753329.2 | N55: =M55+L55*1.2*D55 -> 23766646
A56: 2 | C56: Sử dụng thiết bị, máy móc và hàng hóa, lên kế hoạch làm việc | D56: 40 | E56: Phan Thị Xuân Trang | F56: 5.976 | G56: =(F56*1590000*12+ F56*1590000*12*7%)*30% -> 36601088 | H56: =(F56*1590000*12+F56*1590000*12*7%)+G56 -> 1.5860471e+08 | I56: =(H56/450*32)/52*1.2 -> 260274.4 | J56: =I56*D56 -> 10410976 | K56: =F56*1490000*12 -> 106850880 | L56: =(K56/450)*(32/52) -> 146120.86 | M56: =L56*0.3*D56 -> 1753450.3 | N56: =M56+L56*1.2*D56 -> 8767251.7
A57: 3 | C57: Vệ sinh | D57: 40 | E57: Phan Thị Xuân Trang | F57: 5.976 | G57: =(F57*1590000*12+ F57*1590000*12*7%)*30% -> 36601088 | H57: =(F57*1590000*12+F57*1590000*12*7%)+G57 -> 1.5860471e+08 | I57: =(H57/450*32)/52*1.2 -> 260274.4 | J57: =I57*D57 -> 10410976 | K57: =F57*1490000*12 -> 106850880 | L57: =(K57/450)*(32/52) -> 146120.86 | M57: =L57*0.3*D57 -> 1753450.3 | N57: =M57+L57*1.2*D57 -> 8767251.7
A58: 4 | C58: Khu vực bếp | D58: 200 | E58: Phan Thị Xuân Trang | F58: 5.976 | G58: =(F58*1590000*12+ F58*1590000*12*7%)*30% -> 36601088 | H58: =(F58*1590000*12+F58*1590000*12*7%)+G58 -> 1.5860471e+08 | I58: =(H58/450*32)/52*1.2 -> 260274.4 | J58: =I58*D58 -> 52054880 | K58: =F58*1490000*12 -> 106850880 | L58: =(K58/450)*(32/52) -> 146120.86 | M58: =L58*0.3*D58 -> 8767251.7 | N58: =M58+L58*1.2*D58 -> 43836258
A59: 5 | C59: Khu vực dịch vụ | D59: 200 | E59: Vương Thị Hằng | F59: 3.58 | G59: =(F59*1590000*12+ F59*1590000*12*7%)*30% -> 21926354 | H59: =(F59*1590000*12+F59*1590000*12*7%)+G59 -> 95014202 | I59: =(H59/450*32)/52*1.2 -> 155920.74 | J59: =I59*D59 -> 31184148 | K59: =F59*1490000*12 -> 64010400 | L59: =(K59/450)*(32/52) -> 87535.59 | M59: =L59*0.3*D59 -> 5252135.4 | N59: =M59+L59*1.2*D59 -> 26260677
A60: 6 | C60: Tổ chức văn phòng và giao tiếp trong văn phòng | D60: 344 | E60: Trần Đình Sơn | F60: 3 | G60: =(F60*1590000*12+ F60*1590000*12*7%)*30% -> 18374040 | H60: =(F60*1590000*12+F60*1590000*12*7%)+G60 -> 79620840 | I60: =(H60/450*32)/52*1.2 -> 130659.84 | J60: =I60*D60 -> 44946985 | K60: =F60*1490000*12 -> 53640000 | L60: =(K60/450)*(32/52) -> 73353.846 | M60: =L60*0.3*D60 -> 7570116.9 | N60: =M60+L60*1.2*D60 -> 37850585
A61: 7 | C61: Quản trị hàng hóa | D61: 128 | E61: Phan Thị Xuân Trang | F61: 5.976 | G61: =(F61*1590000*12+ F61*1590000*12*7%)*30% -> 36601088 | H61: =(F61*1590000*12+F61*1590000*12*7%)+G61 -> 1.5860471e+08 | I61: =(H61/450*32)/52*1.2 -> 260274.4 | J61: =I61*D61 -> 33315123 | K61: =F61*1490000*12 -> 106850880 | L61: =(K61/450)*(32/52) -> 146120.86 | M61: =L61*0.3*D61 -> 5611041.1 | N61: =M61+L61*1.2*D61 -> 28055205
A62: 8 | C62: Ứng xử với khách hàng và tư vấn bán hàng | D62: 224 | E62: Phan Thị Xuân Trang | F62: 5.976 | G62: =(F62*1590000*12+ F62*1590000*12*7%)*30% -> 36601088 | H62: =(F62*1590000*12+F62*1590000*12*7%)+G62 -> 1.5860471e+08 | I62: =(H62/450*32)/52*1.2 -> 260274.4 | J62: =I62*D62 -> 58301466 | K62: =F62*1490000*12 -> 106850880 | L62: =(K62/450)*(32/52) -> 146120.86 | M62: =L62*0.3*D62 -> 9819321.9 | N62: =M62+L62*1.2*D62 -> 49096609
A63: 9 | C63: Sử dụng thiết bị, máy móc và hàng hóa, lên kế hoạch làm việc | D63: 80 | E63: Phan Thị Xuân Trang | F63: 5.976 | G63: =(F63*1590000*12+ F63*1590000*12*7%)*30% -> 36601088 | H63: =(F63*1590000*12+F63*1590000*12*7%)+G63 -> 1.5860471e+08 | I63: =(H63/450*32)/52*1.2 -> 260274.4 | J63: =I63*D63 -> 20821952 | K63: =F63*1490000*12 -> 106850880 | L63: =(K63/450)*(32/52) -> 146120.86 | M63: =L63*0.3*D63 -> 3506900.7 | N63: =M63+L63*1.2*D63 -> 17534503
A64: 10 | C64: Quản trị hàng hóa | D64: 344 | E64: Vương Thị Hằng | F64: 3.58 | G64: =(F64*1590000*12+ F64*1590000*12*7%)*30% -> 21926354 | H64: =(F64*1590000*12+F64*1590000*12*7%)+G64 -> 95014202 | I64: =(H64/450*32)/52*1.2 -> 155920.74 | J64: =I64*D64 -> 53636735 | K64: =F64*1490000*12 -> 64010400 | L64: =(K64/450)*(32/52) -> 87535.59 | M64: =L64*0.3*D64 -> 9033672.9 | N64: =M64+L64*1.2*D64 -> 45168364
A65: 11 | C65: Quảng cáo và thúc đẩy bán hàng | D65: 280 | E65: Nguyễn Tuấn Kiệt | F65: 4.531 | G65: =(F65*1590000*12+ F65*1590000*12*7%)*30% -> 27750925 | H65: =(F65*1590000*12+F65*1590000*12*7%)+G65 -> 1.2025401e+08 | I65: =(H65/450*32)/52*1.2 -> 197339.91 | J65: =I65*D65 -> 55255175 | K65: =F65*1490000*12 -> 81014280 | L65: =(K65/450)*(32/52) -> 110788.76 | M65: =L65*0.3*D65 -> 9306255.8 | N65: =M65+L65*1.2*D65 -> 46531279
A66: 12 | C66: Nội dịch | D66: 200 | E66: Phan Thị Xuân Trang | F66: 5.976 | G66: =(F66*1590000*12+ F66*1590000*12*7%)*30% -> 36601088 | H66: =(F66*1590000*12+F66*1590000*12*7%)+G66 -> 1.5860471e+08 | I66: =(H66/450*32)/52*1.2 -> 260274.4 | J66: =I66*D66 -> 52054880 | K66: =F66*1490000*12 -> 106850880 | L66: =(K66/450)*(32/52) -> 146120.86 | M66: =L66*0.3*D66 -> 8767251.7 | N66: =M66+L66*1.2*D66 -> 43836258
... A71: 17 | C71: Ứng xử với khách hàng và tư vấn bán hàng | D71: 120 | E71: Trần Đình Sơn | F71: 3 | G71: =(F71*1590000*12+ F71*1590000*12*7%)*30% -> 18374040 | H71: =(F71*1590000*12+F71*1590000*12*7%)+G71 -> 79620840 | I71: =(H71/450*32)/52*1.2 -> 130659.84 | J71: =I71*D71 -> 15679181 | K71: =F71*1490000*12 -> 53640000 | L71: =(K71/450)*(32/52) -> 73353.846 | M71: =L71*0.3*D71 -> 2640738.5 | N71: =M71+L71*1.2*D71 -> 13203692
A72: V | C72: THỰC TẬP NGHỀ | D72: 480 | E72: Nguyễn Tuấn Kiệt | F72: 4.531 | G72: =(F72*1590000*12+ F72*1590000*12*7%)*30% -> 27750925 | H72: =(F72*1590000*12+F72*1590000*12*7%)+G72 -> 1.2025401e+08 | I72: =(H72/450*32)/52*1.2 -> 197339.91 | J72: =I72*D72 -> 94723158 | K72: =F72*1490000*12 -> 81014280 | L72: =(K72/450)*(32/52) -> 110788.76 | M72: =L72*0.3*D72 -> 15953581 | N72: =M72+L72*1.2*D72 -> 79767906
C73: Tổng | D73: =D72+D54+D42+D14+D8 -> 5544 | F73: =SUM(F9:F72) -> 254.287 | G73: =SUM(G9:G72) -> 1.5574265e+09 | H73: =SUM(H9:H72) -> 6.7488482e+09 | I73: =SUM(I9:I72) -> 11425033 | J73: =SUM(J9:J72) -> 1.0813784e+09 | N73: =SUM(N9:N72) -> 9.1153045e+08

Sheet PL2.2.Trích nộp lương GV
B1: Phụ lục 2:
B2: Phụ lục 2.2:
B3: CÁC KHOẢN TRÍCH NỘP THEO LƯƠNG CỦA GIẢNG VIÊN THAM GIA GIẢNG DẠY
B4: NGHỀ QUẢN TRỊ KHÁCH SẠN
A5: TT | B5: Mã MH | C5: Tên môn học/học phần | D5: Số giờ giảng dạy | E5: Tên giảng viên | F5: Tổng cộng hệ số | G5: Tổng lương trong 1 năm | H5: Tổng lương | I5: Tiền lương 1 giờ chuẩn | J5: Các khoản trích nộp theo lương | N5: Thành tiền | O5: Đơn giá 1 giờ | P5: Trích nộp
J6: BHXH 18% | K6: BHYT 3% | L6: BHTN 1% | M6: KPCĐ 2%
A7: (1) | B7: (2) | C7: (3) | D7: (4) | E7: (5) | F7: (6) | G7: (7) | H7: (6) | I7: (7) | J7: (8) | K7: (9) | L7: (10) | M7: (11) | N7: (12)=8+9+10+11
C8: PHẦN CÁC MÔN CHUNG | D8: 600
A9: 1 | C9: Pháp luật | D9: 30 | E9: Lê Bá Định | F9: 3.78 | G9: =F9*1590000*12+F9*1590000*12*7% -> 77170968 | H9: =I9*D9 -> 3799186.1 | I9: =(G9/450*32)/52*1.2 -> 126639.54 | J9: =H9*18% -> 683853.5 | K9: =H9*3% -> 113975.58 | L9: =H9*1% -> 37991.861 | M9: =H9*2% -> 75983.722 | N9: =SUM(J9:M9) -> 911804.67 | O9: ='PL2.1.Lương GV'!L9 -> 92425.846 | P9: =O9*D9*23.5% -> 651602.22
A10: 2 | C10: Giáo dục thể chất | D10: 60 | E10: Nguyễn Văn Hạ | F10: 5.141 | G10: =F10*1590000*12+F10*1590000*12*7% -> 1.049566e+08 | H10: =I10*D10 -> 10334188 | I10: =(G10/450*32)/52*1.2 -> 172236.47 | J10: =H10*18% -> 1860153.9 | K10: =H10*3% -> 310025.65 | L10: =H10*1% -> 103341.88 | M10: =H10*2% -> 206683.77 | N10: =SUM(J10:M10) -> 2480205.2 | O10: ='PL2.1.Lương GV'!L10 -> 125704.04 | P10: =O10*D10*23.5% -> 1772427
A11: 3 | C11: Giáo dục quốc phòng và an ninh | D11: 75 | E11: Hợp đồng với Trường Quân Sự: 16SV | G11: =F11*1590000*12+F11*1590000*12*7% -> 0 | H11: =I11*16 -> 0 | I11: =(G11/450*32)/52*1.2 -> 0 | J11: =H11*18% -> 0 | K11: =H11*3% -> 0 | L11: =H11*1% -> 0 | M11: =H11*2% -> 0 | N11: =SUM(J11:M11) -> 0 | O11: ='PL2.1.Lương GV'!L11 -> 0 | P11: =O11*D11*23.5% -> 0
A12: 4 | C12: Tin học | D12: 75 | E12: Lương Thị Mận | F12: 5.011 | G12: =F12*1590000*12+F12*1590000*12*7% -> 1.0230257e+08 | H12: =I12*D12 -> 12591086 | I12: =(G12/450*32)/52*1.2 -> 167881.14 | J12: =H12*18% -> 2266395.4 | K12: =H12*3% -> 377732.57 | L12: =H12*1% -> 125910.86 | M12: =H12*2% -> 251821.71 | N12: =SUM(J12:M12) -> 3021860.6 | O12: ='PL2.1.Lương GV'!L12 -> 122525.37 | P12: =O12*D12*23.5% -> 2159509.7
A13: 5 | C13: Ngoại ngữ | D13: 360 | E13: Trương Phụng Hoàng | F13: 6.848 | G13: =F13*1590000*12+F13*1590000*12*7% -> 1.3980603e+08 | H13: =I13*D13 -> 82593100 | I13: =(G13/450*32)/52*1.2 -> 229425.28 | J13: =H13*18% -> 14866758 | K13: =H13*3% -> 2477793 | L13: =H13*1% -> 825931 | M13: =H13*2% -> 1651862 | N13: =SUM(J13:M13) -> 19822344 | O13: ='PL2.1.Lương GV'!L13 -> 167442.38 | P13: =O13*D13*23.5% -> 14165625
C14: LÝ THUYẾT CHUNG CHO CÁC NGHỀ | D14: =D15+D17+D32 -> 240 | G14: =F14*1590000*12+F14*1590000*12*7% -> 0 | I14: =(G14/450*32)/52*1.2 -> 0 | O14: ='PL2.1.Lương GV'!L14 -> 0 | P14: =O14*D14*23.5% -> 0
A15: 1 | C15: Chính trị | D15: =30*3 -> 90 | E15: Lê Bá Định | F15: 3.78 | G15: =F15*1590000*12+F15*1590000*12*7% -> 77170968 | H15: =I15*D15 -> 11397558 | I15: =(G15/450*32)/52*1.2 -> 126639.54 | J15: =H15*18% -> 2051560.5 | K15: =H15*3% -> 341926.75 | L15: =H15*1% -> 113975.58 | M15: =H15*2% -> 227951.17 | N15: =SUM(J15:M15) -> 2735414 | O15: ='PL2.1.Lương GV'!L15 -> 92425.846 | P15: =O15*D15*23.5% -> 1954806.6
C16: Kinh tế học và xã hội học: 150 giờ | G16: =F16*1590000*12+F16*1590000*12*7% -> 0 | H16: =I16*D16 -> 0 | I16: =(G16/450*32)/52*1.2 -> 0 | J16: =H16*18% -> 0 | K16: =H16*3% -> 0 | L16: =H16*1% -> 0 | M16: =H16*2% -> 0 | N16: =SUM(J16:M16) -> 0 | O16: ='PL2.1.Lương GV'!L16 -> 0 | P16: =O16*D16*23.5% -> 0
C17: Phần Kinh tế học: | D17: 120 | G17: =F17*1590000*12+F17*1590000*12*7% -> 0 | H17: =I17*D17 -> 0 | I17: =(G17/450*32)/52*1.2 -> 0 | J17: =H17*18% -> 0 | K17: =H17*3% -> 0 | L17: =H17*1% -> 0 | M17: =H17*2% -> 0 | N17: =SUM(J17:M17) -> 0 | O17: ='PL2.1.Lương GV'!L17 -> 0 | P17: =O17*D17*23.5% -> 0
A18: 2 | C18: Những nền tảng của kinh tế | D18: 14 | E18: Vương Thị Hằng | F18: 3.58 | G18: =F18*1590000*12+F18*1590000*12*7% -> 73087848 | H18: =I18*D18 -> 1679146.5 | I18: =(G18/450*32)/52*1.2 -> 119939.03 | J18: =H18*18% -> 302246.36 | K18: =H18*3% -> 50374.394 | L18: =H18*1% -> 16791.465 | M18: =H18*2% -> 33582.929 | N18: =SUM(J18:M18) -> 402995.15 | O18: ='PL2.1.Lương GV'!L18 -> 87535.59 | P18: =O18*D18*23.5% -> 287992.09
A19: 3 | C19: Hợp đồng đào tạo nghề | D19: 8 | E19: Phan Thị Xuân Trang | F19: 5.976 | G19: =F19*1590000*12+F19*1590000*12*7% -> 1.2200363e+08 | H19: =I19*D19 -> 1601688.6 | I19: =(G19/450*32)/52*1.2 -> 200211.08 | J19: =H19*18% -> 288303.95 | K19: =H19*3% -> 48050.659 | L19: =H19*1% -> 16016.886 | M19: =H19*2% -> 32033.772 | N19: =SUM(J19:M19) -> 384405.27 | O19: ='PL2.1.Lương GV'!L19 -> 146120.86 | P19: =O19*D19*23.5% -> 274707.22
A20: 4 | C20: Những nền tảng của luật hợp đồng | D20: 8 | E20: Trần Đình Sơn | F20: 3 | G20: =F20*1590000*12+F20*1590000*12*7% -> 61246800 | H20: =I20*D20 -> 804060.55 | I20: =(G20/450*32)/52*1.2 -> 100507.57 | J20: =H20*18% -> 144730.9 | K20: =H20*3% -> 24121.817 | L20: =H20*1% -> 8040.6055 | M20: =H20*2% -> 16081.211 | N20: =SUM(J20:M20) -> 192974.53 | O20: ='PL2.1.Lương GV'!L20 -> 73353.846 | P20: =O20*D20*23.5% -> 137905.23
A21: 5 | C21: Những chủ đề hiện tại và đi sâu nội dung chương trình của năm học thứ nhất | D21: 10 | E21: Nguyễn Tuấn Kiệt | F21: 4.531 | G21: =F21*1590000*12+F21*1590000*12*7% -> 92503084 | H21: =I21*D21 -> 1517999.3 | I21: =(G21/450*32)/52*1.2 -> 151799.93 | J21: =H21*18% -> 273239.88 | K21: =H21*3% -> 45539.98 | L21: =H21*1% -> 15179.993 | M21: =H21*2% -> 30359.986 | N21: =SUM(J21:M21) -> 364319.84 | O21: ='PL2.1.Lương GV'!L21 -> 110788.76 | P21: =O21*D21*23.5% -> 260353.58
A22: 6 | C22: Các điều chỉnh pháp lý của hợp đồng mua hàng | D22: 10 | E22: Trần Đình Sơn | F22: 3 | G22: =F22*1590000*12+F22*1590000*12*7% -> 61246800 | H22: =I22*D22 -> 1005075.7 | I22: =(G22/450*32)/52*1.2 -> 100507.57 | J22: =H22*18% -> 180913.62 | K22: =H22*3% -> 30152.271 | L22: =H22*1% -> 10050.757 | M22: =H22*2% -> 20101.514 | N22: =SUM(J22:M22) -> 241218.17 | O22: ='PL2.1.Lương GV'!L22 -> 73353.846 | P22: =O22*D22*23.5% -> 172381.54
A23: 7 | C23: Bảo vệ người tiêu dùng | D23: 4 | E23: Trần Đình Sơn | F23: 3 | G23: =F23*1590000*12+F23*1590000*12*7% -> 61246800 | H23: =I23*D23 -> 402030.28 | I23: =(G23/450*32)/52*1.2 -> 100507.57 | J23: =H23*18% -> 72365.45 | K23: =H23*3% -> 12060.908 | L23: =H23*1% -> 4020.3028 | M23: =H23*2% -> 8040.6055 | N23: =SUM(J23:M23) -> 96487.266 | O23: ='PL2.1.Lương GV'!L23 -> 73353.846 | P23: =O23*D23*23.5% -> 68952.615
A24: 8 | C24: Luật Lao động bao gồm luật tác quyền | D24: 10 | E24: Phan Thị Xuân Trang | F24: 5.976 | G24: =F24*1590000*12+F24*1590000*12*7% -> 1.2200363e+08 | H24: =I24*D24 -> 2002110.8 | I24: =(G24/450*32)/52*1.2 -> 200211.08 | J24: =H24*18% -> 360379.94 | K24: =H24*3% -> 60063.323 | L24: =H24*1% -> 20021.108 | M24: =H24*2% -> 40042.216 | N24: =SUM(J24:M24) -> 480506.59 | O24: ='PL2.1.Lương GV'!L24 -> 146120.86 | P24: =O24*D24*23.5% -> 343384.02
A25: 9 | C25: Luật hợp đồng tập thể | D25: 6 | E25: Phan Thị Xuân Trang | F25: 5.976 | G25: =F25*1590000*12+F25*1590000*12*7% -> 1.2200363e+08 | H25: =I25*D25 -> 1201266.5 | I25: =(G25/450*32)/52*1.2 -> 200211.08 | J25: =H25*18% -> 216227.96 | K25: =H25*3% -> 36037.994 | L25: =H25*1% -> 12012.665 | M25: =H25*2% -> 24025.329 | N25: =SUM(J25:M25) -> 288303.95 | O25: ='PL2.1.Lương GV'!L25 -> 146120.86 | P25: =O25*D25*23.5% -> 206030.41
A26: 10 | C26: Những chủ đề hiện tại và đi sâu nội dung chương trình của năm học thứ 2 | D26: 10 | E26: Phan Thị Xuân Trang | F26: 5.976 | G26: =F26*1590000*12+F26*1590000*12*7% -> 1.2200363e+08 | H26: =I26*D26 -> 2002110.8 | I26: =(G26/450*32)/52*1.2 -> 200211.08 | J26: =H26*18% -> 360379.94 | K26: =H26*3% -> 60063.323 | L26: =H26*1% -> 20021.108 | M26: =H26*2% -> 40042.216 | N26: =SUM(J26:M26) -> 480506.59 | O26: ='PL2.1.Lương GV'!L26 -> 146120.86 | P26: =O26*D26*23.5% -> 343384.02
A27: 11 | C27: Thu nhập, Thuế | D27: 8 | E27: Nguyễn Tuấn Kiệt | F27: 4.531 | G27: =F27*1590000*12+F27*1590000*12*7% -> 92503084 | H27: =I27*D27 -> 1214399.5 | I27: =(G27/450*32)/52*1.2 -> 151799.93 | J27: =H27*18% -> 218591.9 | K27: =H27*3% -> 36431.984 | L27: =H27*1% -> 12143.995 | M27: =H27*2% -> 24287.989 | N27: =SUM(J27:M27) -> 291455.87 | O27: ='PL2.1.Lương GV'!L27 -> 110788.76 | P27: =O27*D27*23.5% -> 208282.87
A28: 12 | C28: Doanh nghiệp, Thành Lập doanh nghiệp | D28: 10 | E28: Vương Thị Hằng | F28: 3.58 | G28: =F28*1590000*12+F28*1590000*12*7% -> 73087848 | H28: =I28*D28 -> 1199390.3 | I28: =(G28/450*32)/52*1.2 -> 119939.03 | J28: =H28*18% -> 215890.26 | K28: =H28*3% -> 35981.71 | L28: =H28*1% -> 11993.903 | M28: =H28*2% -> 23987.807 | N28: =SUM(J28:M28) -> 287853.68 | O28: ='PL2.1.Lương GV'!L28 -> 87535.59 | P28: =O28*D28*23.5% -> 205708.64
A29: 13 | C29: Trật tự kinh tế của CHLB Đức | D29: 6 | E29: Vương Thị Hằng | F29: 3.58 | G29: =F29*1590000*12+F29*1590000*12*7% -> 73087848 | H29: =I29*D29 -> 719634.2 | I29: =(G29/450*32)/52*1.2 -> 119939.03 | J29: =H29*18% -> 129534.16 | K29: =H29*3% -> 21589.026 | L29: =H29*1% -> 7196.342 | M29: =H29*2% -> 14392.684 | N29: =SUM(J29:M29) -> 172712.21 | O29: ='PL2.1.Lương GV'!L29 -> 87535.59 | P29: =O29*D29*23.5% -> 123425.18
... A31: 15 | C31: Những chủ đề hiện tại và đi sâu nội dung chương trình của năm học thứ 3 | D31: 10 | E31: Nguyễn Tuấn Kiệt | F31: 4.531 | G31: =F31*1590000*12+F31*1590000*12*7% -> 92503084 | H31: =I31*D31 -> 1517999.3 | I31: =(G31/450*32)/52*1.2 -> 151799.93 | J31: =H31*18% -> 273239.88 | K31: =H31*3% -> 45539.98 | L31: =H31*1% -> 15179.993 | M31: =H31*2% -> 30359.986 | N31: =SUM(J31:M31) -> 364319.84 | O31: ='PL2.1.Lương GV'!L31 -> 110788.76 | P31: =O31*D31*23.5% -> 260353.58
C32: Phần xã hội học | D32: 30 | G32: =F32*1590000*12+F32*1590000*12*7% -> 0 | H32: =I32*D32 -> 0 | I32: =(G32/450*32)/52*1.2 -> 0 | J32: =H32*18% -> 0 | K32: =H32*3% -> 0 | L32: =H32*1% -> 0 | M32: =H32*2% -> 0 | N32: =SUM(J32:M32) -> 0 | O32: ='PL2.1.Lương GV'!L32 -> 0 | P32: =O32*D32*23.5% -> 0
A33: 16 | C33: Đào tạo nghề nghiệp | D33: 3 | E33: Phan Thị Xuân Trang | F33: 5.976 | G33: =F33*1590000*12+F33*1590000*12*7% -> 1.2200363e+08 | H33: =I33*D33 -> 600633.23 | I33: =(G33/450*32)/52*1.2 -> 200211.08 | J33: =H33*18% -> 108113.98 | K33: =H33*3% -> 18018.997 | L33: =H33*1% -> 6006.3323 | M33: =H33*2% -> 12012.665 | N33: =SUM(J33:M33) -> 144151.98 | O33: ='PL2.1.Lương GV'!L33 -> 146120.86 | P33: =O33*D33*23.5% -> 103015.21
A34: 17 | C34: Các hệ thống xã hội | D34: 3 | E34: Phan Thị Xuân Trang | F34: 5.976 | G34: =F34*1590000*12+F34*1590000*12*7% -> 1.2200363e+08 | H34: =I34*D34 -> 600633.23 | I34: =(G34/450*32)/52*1.2 -> 200211.08 | J34: =H34*18% -> 108113.98 | K34: =H34*3% -> 18018.997 | L34: =H34*1% -> 6006.3323 | M34: =H34*2% -> 12012.665 | N34: =SUM(J34:M34) -> 144151.98 | O34: ='PL2.1.Lương GV'!L34 -> 146120.86 | P34: =O34*D34*23.5% -> 103015.21
A35: 18 | C35: Các mỗi quan hệ xã hội | D35: 2 | E35: Phan Thị Xuân Trang | F35: 5.976 | G35: =F35*1590000*12+F35*1590000*12*7% -> 1.2200363e+08 | H35: =I35*D35 -> 400422.16 | I35: =(G35/450*32)/52*1.2 -> 200211.08 | J35: =H35*18% -> 72075.988 | K35: =H35*3% -> 12012.665 | L35: =H35*1% -> 4004.2216 | M35: =H35*2% -> 8008.4431 | N35: =SUM(J35:M35) -> 96101.317 | O35: ='PL2.1.Lương GV'!L35 -> 146120.86 | P35: =O35*D35*23.5% -> 68676.805
A36: 19 | C36: Các chủ đề hiện hành và đi sâu nội dung chương trình | D36: 2 | E36: Phan Thị Xuân Trang | F36: 5.976 | G36: =F36*1590000*12+F36*1590000*12*7% -> 1.2200363e+08 | H36: =I36*D36 -> 400422.16 | I36: =(G36/450*32)/52*1.2 -> 200211.08 | J36: =H36*18% -> 72075.988 | K36: =H36*3% -> 12012.665 | L36: =H36*1% -> 4004.2216 | M36: =H36*2% -> 8008.4431 | N36: =SUM(J36:M36) -> 96101.317 | O36: ='PL2.1.Lương GV'!L36 -> 146120.86 | P36: =O36*D36*23.5% -> 68676.805
A37: 20 | C37: Nền trật tự cơ bản, sự đại diện và Quyền tham gia tại đất nước của mình | D37: 5 | E37: Vương Thị Hằng | F37: 3.58 | G37: =F37*1590000*12+F37*1590000*12*7% -> 73087848 | H37: =I37*D37 -> 599695.16 | I37: =(G37/450*32)/52*1.2 -> 119939.03 | J37: =H37*18% -> 107945.13 | K37: =H37*3% -> 17990.855 | L37: =H37*1% -> 5996.9516 | M37: =H37*2% -> 11993.903 | N37: =SUM(J37:M37) -> 143926.84 | O37: ='PL2.1.Lương GV'!L37 -> 87535.59 | P37: =O37*D37*23.5% -> 102854.32
A38: 21 | C38: Các quá trình quyết định trong bộ máy chính trị | D38: 5 | E38: Vương Thị Hằng | F38: 3.58 | G38: =F38*1590000*12+F38*1590000*12*7% -> 73087848 | H38: =I38*D38 -> 599695.16 | I38: =(G38/450*32)/52*1.2 -> 119939.03 | J38: =H38*18% -> 107945.13 | K38: =H38*3% -> 17990.855 | L38: =H38*1% -> 5996.9516 | M38: =H38*2% -> 11993.903 | N38: =SUM(J38:M38) -> 143926.84 | O38: ='PL2.1.Lương GV'!L38 -> 87535.59 | P38: =O38*D38*23.5% -> 102854.32
A39: 22 | C39: Toàn cầu hóa | D39: 4 | E39: Trần Đình Sơn | F39: 3 | G39: =F39*1590000*12+F39*1590000*12*7% -> 61246800 | H39: =I39*D39 -> 402030.28 | I39: =(G39/450*32)/52*1.2 -> 100507.57 | J39: =H39*18% -> 72365.45 | K39: =H39*3% -> 12060.908 | L39: =H39*1% -> 4020.3028 | M39: =H39*2% -> 8040.6055 | N39: =SUM(J39:M39) -> 96487.266 | O39: ='PL2.1.Lương GV'!L39 -> 73353.846 | P39: =O39*D39*23.5% -> 68952.615
A40: 23 | C40: Môi trường | D40: 4 | E40: Trần Đình Sơn | F40: 3 | G40: =F40*1590000*12+F40*1590000*12*7% -> 61246800 | H40: =I40*D40 -> 402030.28 | I40: =(G40/450*32)/52*1.2 -> 100507.57 | J40: =H40*18% -> 72365.45 | K40: =H40*3% -> 12060.908 | L40: =H40*1% -> 4020.3028 | M40: =H40*2% -> 8040.6055 | N40: =SUM(J40:M40) -> 96487.266 | O40: ='PL2.1.Lương GV'!L40 -> 73353.846 | P40: =O40*D40*23.5% -> 68952.615
A41: 24 | C41: Hòa bình và sự an toàn | D41: 2 | E41: Trần Đình Sơn | F41: 3 | G41: =F41*1590000*12+F41*1590000*12*7% -> 61246800 | H41: =I41*D41 -> 201015.14 | I41: =(G41/450*32)/52*1.2 -> 100507.57 | J41: =H41*18% -> 36182.725 | K41: =H41*3% -> 6030.4542 | L41: =H41*1% -> 2010.1514 | M41: =H41*2% -> 4020.3028 | N41: =SUM(J41:M41) -> 48243.633 | O41: ='PL2.1.Lương GV'!L41 -> 73353.846 | P41: =O41*D41*23.5% -> 34476.308
A42: III | C42: LÝ THUYẾT NGHỀ | D42: =SUM(D43:D53) -> 880 | G42: =F42*1590000*12+F42*1590000*12*7% -> 0 | H42: =I42*D42 -> 0 | I42: =(G42/450*32)/52*1.2 -> 0 | J42: =H42*18% -> 0 | K42: =H42*3% -> 0 | L42: =H42*1% -> 0 | M42: =H42*2% -> 0 | N42: =SUM(J42:M42) -> 0 | O42: ='PL2.1.Lương GV'!L42 -> 0 | P42: =O42*D42*23.5% -> 0
A43: 1 | C43: Làm việc trong bộ phận bếp | D43: 140 | E43: Phan Thị Xuân Trang | F43: 5.976 | G43: =F43*1590000*12+F43*1590000*12*7% -> 1.2200363e+08 | H43: =I43*D43 -> 28029551 | I43: =(G43/450*32)/52*1.2 -> 200211.08 | J43: =H43*18% -> 5045319.2 | K43: =H43*3% -> 840886.53 | L43: =H43*1% -> 280295.51 | M43: =H43*2% -> 560591.02 | N43: =SUM(J43:M43) -> 6727092.2 | O43: ='PL2.1.Lương GV'!L43 -> 146120.86 | P43: =O43*D43*23.5% -> 4807376.3
A44: 2 | C44: Làm việc trong bộ phận dịch vụ | D44: 120 | E44: Vương Thị Hằng | F44: 3.58 | G44: =F44*1590000*12+F44*1590000*12*7% -> 73087848 | H44: =I44*D44 -> 14392684 | I44: =(G44/450*32)/52*1.2 -> 119939.03 | J44: =H44*18% -> 2590683.1 | K44: =H44*3% -> 431780.52 | L44: =H44*1% -> 143926.84 | M44: =H44*2% -> 287853.68 | N44: =SUM(J44:M44) -> 3454244.1 | O44: ='PL2.1.Lương GV'!L44 -> 87535.59 | P44: =O44*D44*23.5% -> 2468503.6
A45: 3 | C45: Làm việc trong kho chứa hàng | D45: 60 | E45: Trần Đình Sơn | F45: 3 | G45: =F45*1590000*12+F45*1590000*12*7% -> 61246800 | H45: =I45*D45 -> 6030454.2 | I45: =(G45/450*32)/52*1.2 -> 100507.57 | J45: =H45*18% -> 1085481.7 | K45: =H45*3% -> 180913.62 | L45: =H45*1% -> 60304.542 | M45: =H45*2% -> 120609.08 | N45: =SUM(J45:M45) -> 1447309 | O45: ='PL2.1.Lương GV'!L45 -> 73353.846 | P45: =O45*D45*23.5% -> 1034289.2
A46: 4 | C46: Tư vấn và bán hàng trong nhà hàng | D46: 100 | E46: Trần Đình Sơn | F46: 3 | G46: =F46*1590000*12+F46*1590000*12*7% -> 61246800 | H46: =I46*D46 -> 10050757 | I46: =(G46/450*32)/52*1.2 -> 100507.57 | J46: =H46*18% -> 1809136.2 | K46: =H46*3% -> 301522.71 | L46: =H46*1% -> 100507.57 | M46: =H46*2% -> 201015.14 | N46: =SUM(J46:M46) -> 2412181.7 | O46: ='PL2.1.Lương GV'!L46 -> 73353.846 | P46: =O46*D46*23.5% -> 1723815.4
A47: 5 | C47: Marketing | D47: 80 | E47: Trần Đình Sơn | F47: 3 | G47: =F47*1590000*12+F47*1590000*12*7% -> 61246800 | H47: =I47*D47 -> 8040605.5 | I47: =(G47/450*32)/52*1.2 -> 100507.57 | J47: =H47*18% -> 1447309 | K47: =H47*3% -> 241218.17 | L47: =H47*1% -> 80406.055 | M47: =H47*2% -> 160812.11 | N47: =SUM(J47:M47) -> 1929745.3 | O47: ='PL2.1.Lương GV'!L47 -> 73353.846 | P47: =O47*D47*23.5% -> 1379052.3
A48: 6 | C48: Dịch vụ quản trị | D48: 40 | E48: Trần Đình Sơn | F48: 3 | G48: =F48*1590000*12+F48*1590000*12*7% -> 61246800 | H48: =I48*D48 -> 4020302.8 | I48: =(G48/450*32)/52*1.2 -> 100507.57 | J48: =H48*18% -> 723654.5 | K48: =H48*3% -> 120609.08 | L48: =H48*1% -> 40203.028 | M48: =H48*2% -> 80406.055 | N48: =SUM(J48:M48) -> 964872.66 | O48: ='PL2.1.Lương GV'!L48 -> 73353.846 | P48: =O48*D48*23.5% -> 689526.15
A49: 7 | C49: Quản trị hàng hóa | D49: 60 | E49: Phan Thị Xuân Trang | F49: 5.976 | G49: =F49*1590000*12+F49*1590000*12*7% -> 1.2200363e+08 | H49: =I49*D49 -> 12012665 | I49: =(G49/450*32)/52*1.2 -> 200211.08 | J49: =H49*18% -> 2162279.6 | K49: =H49*3% -> 360379.94 | L49: =H49*1% -> 120126.65 | M49: =H49*2% -> 240253.29 | N49: =SUM(J49:M49) -> 2883039.5 | O49: ='PL2.1.Lương GV'!L49 -> 146120.86 | P49: =O49*D49*23.5% -> 2060304.1
A50: 8 | C50: Quản trị nhân sự | D50: 60 | E50: Vương Thị Hằng | F50: 3.58 | G50: =F50*1590000*12+F50*1590000*12*7% -> 73087848 | H50: =I50*D50 -> 7196342 | I50: =(G50/450*32)/52*1.2 -> 119939.03 | J50: =H50*18% -> 1295341.6 | K50: =H50*3% -> 215890.26 | L50: =H50*1% -> 71963.42 | M50: =H50*2% -> 143926.84 | N50: =SUM(J50:M50) -> 1727122.1 | O50: ='PL2.1.Lương GV'!L50 -> 87535.59 | P50: =O50*D50*23.5% -> 1234251.8
A51: 9 | C51: Tiến hành vận hành doanh nghiệp dưới góc độ kinh doanh | D51: 100 | E51: Nguyễn Tuấn Kiệt | F51: 4.531 | G51: =F51*1590000*12+F51*1590000*12*7% -> 92503084 | H51: =I51*D51 -> 15179993 | I51: =(G51/450*32)/52*1.2 -> 151799.93 | J51: =H51*18% -> 2732398.8 | K51: =H51*3% -> 455399.8 | L51: =H51*1% -> 151799.93 | M51: =H51*2% -> 303599.86 | N51: =SUM(J51:M51) -> 3643198.4 | O51: ='PL2.1.Lương GV'!L51 -> 110788.76 | P51: =O51*D51*23.5% -> 2603535.8
A52: 10 | C52: Điều khiển và Kiểm soát các quá trình trong doanh nghiệp | D52: 100 | E52: Nguyễn Tuấn Kiệt | F52: 4.531 | G52: =F52*1590000*12+F52*1590000*12*7% -> 92503084 | H52: =I52*D52 -> 15179993 | I52: =(G52/450*32)/52*1.2 -> 151799.93 | J52: =H52*18% -> 2732398.8 | K52: =H52*3% -> 455399.8 | L52: =H52*1% -> 151799.93 | M52: =H52*2% -> 303599.86 | N52: =SUM(J52:M52) -> 3643198.4 | O52: ='PL2.1.Lương GV'!L52 -> 110788.76 | P52: =O52*D52*23.5% -> 2603535.8
A53: 11 | C53: Tổ chức sự kiện | D53: 20 | E53: Nguyễn Tuấn Kiệt | F53: 4.531 | G53: =F53*1590000*12+F53*1590000*12*7% -> 92503084 | H53: =I53*D53 -> 3035998.6 | I53: =(G53/450*32)/52*1.2 -> 151799.93 | J53: =H53*18% -> 546479.76 | K53: =H53*3% -> 91079.959 | L53: =H53*1% -> 30359.986 | M53: =H53*2% -> 60719.973 | N53: =SUM(J53:M53) -> 728639.67 | O53: ='PL2.1.Lương GV'!L53 -> 110788.76 | P53: =O53*D53*23.5% -> 520707.17
A54: IV | C54: THỰC HÀNH NGHỀ | D54: =SUM(D55:D71) -> 3344 | G54: =F54*1590000*12+F54*1590000*12*7% -> 0 | H54: =I54*D54 -> 0 | I54: =(G54/450*32)/52*1.2 -> 0 | J54: =H54*18% -> 0 | K54: =H54*3% -> 0 | L54: =H54*1% -> 0 | M54: =H54*2% -> 0 | N54: =SUM(J54:M54) -> 0 | O54: ='PL2.1.Lương GV'!L54 -> 0 | P54: =O54*D54*23.5% -> 0
A55: 1 | C55: Ứng xử với khách hàng và tư vấn bán hàng | D55: 216 | E55: Trần Đình Sơn | F55: 3 | G55: =F55*1590000*12+F55*1590000*12*7% -> 61246800 | H55: =I55*D55 -> 21709635 | I55: =(G55/450*32)/52*1.2 -> 100507.57 | J55: =H55*18% -> 3907734.3 | K55: =H55*3% -> 651289.05 | L55: =H55*1% -> 217096.35 | M55: =H55*2% -> 434192.7 | N55: =SUM(J55:M55) -> 5210312.4 | O55: ='PL2.1.Lương GV'!L55 -> 73353.846 | P55: =O55*D55*23.5% -> 3723441.2
A56: 2 | C56: Sử dụng thiết bị, máy móc và hàng hóa, lên kế hoạch làm việc | D56: 40 | E56: Phan Thị Xuân Trang | F56: 5.976 | G56: =F56*1590000*12+F56*1590000*12*7% -> 1.2200363e+08 | H56: =I56*D56 -> 8008443.1 | I56: =(G56/450*32)/52*1.2 -> 200211.08 | J56: =H56*18% -> 1441519.8 | K56: =H56*3% -> 240253.29 | L56: =H56*1% -> 80084.431 | M56: =H56*2% -> 160168.86 | N56: =SUM(J56:M56) -> 1922026.3 | O56: ='PL2.1.Lương GV'!L56 -> 146120.86 | P56: =O56*D56*23.5% -> 1373536.1
A57: 3 | C57: Vệ sinh | D57: 40 | E57: Phan Thị Xuân Trang | F57: 5.976 | G57: =F57*1590000*12+F57*1590000*12*7% -> 1.2200363e+08 | H57: =I57*D57 -> 8008443.1 | I57: =(G57/450*32)/52*1.2 -> 200211.08 | J57: =H57*18% -> 1441519.8 | K57: =H57*3% -> 240253.29 | L57: =H57*1% -> 80084.431 | M57: =H57*2% -> 160168.86 | N57: =SUM(J57:M57) -> 1922026.3 | O57: ='PL2.1.Lương GV'!L57 -> 146120.86 | P57: =O57*D57*23.5% -> 1373536.1
A58: 4 | C58: Khu vực bếp | D58: 200 | E58: Phan Thị Xuân Trang | F58: 5.976 | G58: =F58*1590000*12+F58*1590000*12*7% -> 1.2200363e+08 | H58: =I58*D58 -> 40042216 | I58: =(G58/450*32)/52*1.2 -> 200211.08 | J58: =H58*18% -> 7207598.8 | K58: =H58*3% -> 1201266.5 | L58: =H58*1% -> 400422.16 | M58: =H58*2% -> 800844.31 | N58: =SUM(J58:M58) -> 9610131.7 | O58: ='PL2.1.Lương GV'!L58 -> 146120.86 | P58: =O58*D58*23.5% -> 6867680.5
A59: 5 | C59: Khu vực dịch vụ | D59: 200 | E59: Vương Thị Hằng | F59: 3.58 | G59: =F59*1590000*12+F59*1590000*12*7% -> 73087848 | H59: =I59*D59 -> 23987807 | I59: =(G59/450*32)/52*1.2 -> 119939.03 | J59: =H59*18% -> 4317805.2 | K59: =H59*3% -> 719634.2 | L59: =H59*1% -> 239878.07 | M59: =H59*2% -> 479756.13 | N59: =SUM(J59:M59) -> 5757073.6 | O59: ='PL2.1.Lương GV'!L59 -> 87535.59 | P59: =O59*D59*23.5% -> 4114172.7
A60: 6 | C60: Tổ chức văn phòng và giao tiếp trong văn phòng | D60: 344 | E60: Trần Đình Sơn | F60: 3 | G60: =F60*1590000*12+F60*1590000*12*7% -> 61246800 | H60: =I60*D60 -> 34574604 | I60: =(G60/450*32)/52*1.2 -> 100507.57 | J60: =H60*18% -> 6223428.7 | K60: =H60*3% -> 1037238.1 | L60: =H60*1% -> 345746.04 | M60: =H60*2% -> 691492.08 | N60: =SUM(J60:M60) -> 8297904.9 | O60: ='PL2.1.Lương GV'!L60 -> 73353.846 | P60: =O60*D60*23.5% -> 5929924.9
A61: 7 | C61: Quản trị hàng hóa | D61: 128 | E61: Phan Thị Xuân Trang | F61: 5.976 | G61: =F61*1590000*12+F61*1590000*12*7% -> 1.2200363e+08 | H61: =I61*D61 -> 25627018 | I61: =(G61/450*32)/52*1.2 -> 200211.08 | J61: =H61*18% -> 4612863.2 | K61: =H61*3% -> 768810.54 | L61: =H61*1% -> 256270.18 | M61: =H61*2% -> 512540.36 | N61: =SUM(J61:M61) -> 6150484.3 | O61: ='PL2.1.Lương GV'!L61 -> 146120.86 | P61: =O61*D61*23.5% -> 4395315.5
A62: 8 | C62: Ứng xử với khách hàng và tư vấn bán hàng | D62: 224 | E62: Phan Thị Xuân Trang | F62: 5.976 | G62: =F62*1590000*12+F62*1590000*12*7% -> 1.2200363e+08 | H62: =I62*D62 -> 44847281 | I62: =(G62/450*32)/52*1.2 -> 200211.08 | J62: =H62*18% -> 8072510.7 | K62: =H62*3% -> 1345418.4 | L62: =H62*1% -> 448472.81 | M62: =H62*2% -> 896945.63 | N62: =SUM(J62:M62) -> 10763348 | O62: ='PL2.1.Lương GV'!L62 -> 146120.86 | P62: =O62*D62*23.5% -> 7691802.2
A63: 9 | C63: Sử dụng thiết bị, máy móc và hàng hóa, lên kế hoạch làm việc | D63: 80 | E63: Phan Thị Xuân Trang | F63: 5.976 | G63: =F63*1590000*12+F63*1590000*12*7% -> 1.2200363e+08 | H63: =I63*D63 -> 16016886 | I63: =(G63/450*32)/52*1.2 -> 200211.08 | J63: =H63*18% -> 2883039.5 | K63: =H63*3% -> 480506.59 | L63: =H63*1% -> 160168.86 | M63: =H63*2% -> 320337.72 | N63: =SUM(J63:M63) -> 3844052.7 | O63: ='PL2.1.Lương GV'!L63 -> 146120.86 | P63: =O63*D63*23.5% -> 2747072.2
A64: 10 | C64: Quản trị hàng hóa | D64: 344 | E64: Vương Thị Hằng | F64: 3.58 | G64: =F64*1590000*12+F64*1590000*12*7% -> 73087848 | H64: =I64*D64 -> 41259027 | I64: =(G64/450*32)/52*1.2 -> 119939.03 | J64: =H64*18% -> 7426624.9 | K64: =H64*3% -> 1237770.8 | L64: =H64*1% -> 412590.27 | M64: =H64*2% -> 825180.54 | N64: =SUM(J64:M64) -> 9902166.5 | O64: ='PL2.1.Lương GV'!L64 -> 87535.59 | P64: =O64*D64*23.5% -> 7076377.1
A65: 11 | C65: Quảng cáo và thúc đẩy bán hàng | D65: 280 | E65: Nguyễn Tuấn Kiệt | F65: 4.531 | G65: =F65*1590000*12+F65*1590000*12*7% -> 92503084 | H65: =I65*D65 -> 42503981 | I65: =(G65/450*32)/52*1.2 -> 151799.93 | J65: =H65*18% -> 7650716.6 | K65: =H65*3% -> 1275119.4 | L65: =H65*1% -> 425039.81 | M65: =H65*2% -> 850079.62 | N65: =SUM(J65:M65) -> 10200955 | O65: ='PL2.1.Lương GV'!L65 -> 110788.76 | P65: =O65*D65*23.5% -> 7289900.3
A66: 12 | C66: Nội dịch | D66: 200 | E66: Phan Thị Xuân Trang | F66: 5.976 | G66: =F66*1590000*12+F66*1590000*12*7% -> 1.2200363e+08 | H66: =I66*D66 -> 40042216 | I66: =(G66/450*32)/52*1.2 -> 200211.08 | J66: =H66*18% -> 7207598.8 | K66: =H66*3% -> 1201266.5 | L66: =H66*1% -> 400422.16 | M66: =H66*2% -> 800844.31 | N66: =SUM(J66:M66) -> 9610131.7 | O66: ='PL2.1.Lương GV'!L66 -> 146120.86 | P66: =O66*D66*23.5% -> 6867680.5
... A71: 17 | C71: Ứng xử với khách hàng và tư vấn bán hàng | D71: 120 | E71: Trần Đình Sơn | F71: 3 | G71: =F71*1590000*12+F71*1590000*12*7% -> 61246800 | H71: =I71*D71 -> 12060908 | I71: =(G71/450*32)/52*1.2 -> 100507.57 | J71: =H71*18% -> 2170963.5 | K71: =H71*3% -> 361827.25 | L71: =H71*1% -> 120609.08 | M71: =H71*2% -> 241218.17 | N71: =SUM(J71:M71) -> 2894618 | O71: ='PL2.1.Lương GV'!L71 -> 73353.846 | P71: =O71*D71*23.5% -> 2068578.5
A72: V | C72: THỰC TẬP NGHỀ | D72: 480 | E72: Nguyễn Tuấn Kiệt | F72: 4.531 | G72: =F72*1590000*12+F72*1590000*12*7% -> 92503084 | H72: =I72*D72 -> 72863967 | I72: =(G72/450*32)/52*1.2 -> 151799.93 | J72: =H72*18% -> 13115514 | K72: =H72*3% -> 2185919 | L72: =H72*1% -> 728639.67 | M72: =H72*2% -> 1457279.3 | N72: =SUM(J72:M72) -> 17487352 | O72: ='PL2.1.Lương GV'!L72 -> 110788.76 | P72: =O72*D72*23.5% -> 12496972
C73: Tổng | D73: =D72+D54+D42+D14+D8 -> 5544 | F73: =SUM(F9:F72) -> 254.287 | G73: =SUM(G9:G72) -> 5.1914217e+09 | H73: =SUM(H9:H72) -> 8.2752187e+08 | I73: =SUM(I9:I72) -> 8519256.1 | J73: =SUM(J9:J72) -> 1.4895394e+08 | K73: =SUM(K9:K72) -> 24825656 | L73: =SUM(L9:L72) -> 8275218.7 | M73: =SUM(M9:M72) -> 16550437 | N73: =SUM(N9:N72) -> 1.9860525e+08 | P73: =SUM(P9:P72) -> 1.419291e+08

Sheet PL3. Ngoai ngữ
A1: Phụ lục 3:
A2: DỰ TOÁN KINH PHÍ TỔ CHỨC ĐÀO TẠO NGOẠI NGỮ CHUYÊN NGÀNH VÀ THI KIỂM TRA ĐÁNH GIÁ NGOẠI NGỮ ĐỂ ĐẠT TRÌNH ĐỘ B1 KHUNG NĂNG LỰC NGOẠI NGỮ CHÂU ÂU
A3: - Ngoại ngữ: Tiếng Anh - Thời gian học: 360 giờ - Giáo viên nước ngoài: 180 giờ - Giáo viên Việt Nam: 180 giờ - Trợ giảng: 180 giờ
A4: STT | B4: NỘI DUNG | C4: ĐƠN VỊ | D4: SỐ LƯỢNG | E4: ĐƠN GIÁ | F4: THÀNH TIỀN
A5: 1 | B5: Lương giáo viên nước ngoài | C5: Giờ | D5: 180 | E5: 1500000 | F5: =D5*E5 -> 270000000
A6: 2 | B6: Lương giáo viên Việt Nam | C6: Giờ | D6: 180 | E6: 600000 | F6: =D6*E6 -> 108000000
A7: 3 | B7: Trợ giảng cho giáo viên nước ngoài | C7: Giờ | D7: 180 | E7: 200000 | F7: =D7*E7 -> 36000000
A8: 4 | B8: Trợ giảng cho giáo viên Việt Nam | C8: Giờ | E8: 0 | F8: =D8*E8 -> 0
A9: 5 | B9: Tài liệu học tập cho sinh viên | C9: Bộ | D9: 16 | E9: 350000 | F9: =D9*E9 -> 5600000
A10: 6 | B10: Tổ chức thi lấy chứng chỉ B1 | C10: Người | D10: 16 | E10: 1500000 | F10: =D10*E10 -> 24000000
A11: 7 | B11: Đánh giá năng lực đầu vào | C11: Người | D11: 50 | E11: 250000 | F11: =D11*E11 -> 12500000
A12: 8 | B12: Phí xây dựng chương trình và quản lý chất lượng đào tạo | C12: giờ | D12: 360 | E12: 50000 | F12: =D12*E12 -> 18000000
B13: Tổng cộng | F13: =SUM(F5:F12) -> 474100000

Sheet PL4.Vật tư
B1: Phụ lục 4:
A2: DỰ TOÁN CHI PHÍ VẬT TƯ ĐỂ HỌC TẬP VÀ THI TỐT NGHIỆP
A3: STT | B3: Tên vật tư, nguyên vật liệu | C3: Đơn vị tính | D3: Số lượng (cho 1SV) | E3: Đơn giá | F3: Thành tiền | G3: Ghi chú | H3: Rà soát | I3: Thành tiền
A4: 1 | B4: Thịt gà (Ức gà) | C4: Kg | D4: 1.3 | E4: 96000 | F4: =D4*E4 -> 124800 | H4: =VLOOKUP(B4,'[1]PL4.1.Vật tư'!$B$5:$L$751,11,0) -> 80000 | I4: =H4*D4 -> 104000 | J4: =I4-F4 -> -20800
A5: 2 | B5: Thịt ngỗng (Đùi ngỗng) | C5: Kg | D5: 1.3 | E5: 200000 | F5: =D5*E5 -> 260000 | H5: =VLOOKUP(B5,'[1]PL4.1.Vật tư'!$B$5:$L$751,11,0) -> 200000 | I5: =H5*D5 -> 260000 | J5: =I5-F5 -> 0
A6: 3 | B6: 7 up | C6: Lon | D6: 23 | E6: 4000 | F6: =D6*E6 -> 92000 | H6: =VLOOKUP(B6,'[1]PL4.1.Vật tư'!$B$5:$L$751,11,0) -> 4000 | I6: =H6*D6 -> 92000 | J6: =I6-F6 -> 0
A7: 4 | B7: Anh đào | C7: Kg | D7: 1.2 | E7: 350000 | F7: =D7*E7 -> 420000 | H7: =VLOOKUP(B7,'[1]PL4.1.Vật tư'!$B$5:$L$751,11,0) -> 250000 | I7: =H7*D7 -> 300000 | J7: =I7-F7 -> -120000
A8: 5 | B8: Ardeche Pinot Noir | C8: Chai | D8: 1 | E8: 200000 | F8: =D8*E8 -> 200000 | H8: =VLOOKUP(B8,'[1]PL4.1.Vật tư'!$B$5:$L$751,11,0) -> 200000 | I8: =H8*D8 -> 200000 | J8: =I8-F8 -> 0
A9: 6 | B9: Artemis Syrah | C9: Chai | D9: 1 | E9: 280000 | F9: =D9*E9 -> 280000 | H9: =VLOOKUP(B9,'[1]PL4.1.Vật tư'!$B$5:$L$751,11,0) -> 280000 | I9: =H9*D9 -> 280000 | J9: =I9-F9 -> 0
A10: 7 | B10: Atiso | C10: Kg | D10: 1.2 | E10: 132000 | F10: =D10*E10 -> 158400 | H10: =VLOOKUP(B10,'[1]PL4.1.Vật tư'!$B$5:$L$751,11,0) -> 120000 | I10: =H10*D10 -> 144000 | J10: =I10-F10 -> -14400
A11: 8 | B11: Bàn chải + kem đánh răng | C11: Cái | D11: 10 | E11: 12000 | F11: =D11*E11 -> 120000 | H11: =VLOOKUP(B11,'[1]PL4.1.Vật tư'!$B$5:$L$751,11,0) -> 12000 | I11: =H11*D11 -> 120000 | J11: =I11-F11 -> 0
A12: 9 | B12: Bàn chải đánh răng | C12: Cái | D12: 1 | E12: 0 | F12: =D12*E12 -> 0 | H12: =VLOOKUP(B12,'[1]PL4.1.Vật tư'!$B$5:$L$751,11,0) -> 10000 | I12: =H12*D12 -> 10000
A13: 10 | B13: Bản đồ | C13: Cái | D13: 1 | E13: 0 | F13: =D13*E13 -> 0 | H13: =VLOOKUP(B13,'[1]PL4.1.Vật tư'!$B$5:$L$751,11,0) -> 350000 | I13: =H13*D13 -> 350000
A14: 11 | B14: Băng cuốn y tế | C14: Cuộn | D14: 5 | E14: 0 | F14: =D14*E14 -> 0 | H14: =VLOOKUP(B14,'[1]PL4.1.Vật tư'!$B$5:$L$751,11,0) -> 15000 | I14: =H14*D14 -> 75000
A15: 12 | B15: Băng gạc y tế | C15: Cuộn | D15: 5 | E15: 16000 | F15: =D15*E15 -> 80000 | H15: =VLOOKUP(B15,'[1]PL4.1.Vật tư'!$B$5:$L$751,11,0) -> 10000 | I15: =H15*D15 -> 50000 | J15: =I15-F15 -> -30000
A16: 13 | B16: Bảng giá buồng | C16: Quyển | D16: 1 | E16: 50000 | F16: =D16*E16 -> 50000 | H16: =VLOOKUP(B16,'[1]PL4.1.Vật tư'!$B$5:$L$751,11,0) -> 20000 | I16: =H16*D16 -> 20000 | J16: =I16-F16 -> -30000
A17: 14 | B17: Bảng kiểm kê hàng hóa | C17: Quyển | D17: 3 | E17: 50000 | F17: =D17*E17 -> 150000 | H17: =VLOOKUP(B17,'[1]PL4.1.Vật tư'!$B$5:$L$751,11,0) -> 20000 | I17: =H17*D17 -> 60000 | J17: =I17-F17 -> -90000
A18: 15 | B18: Bảng thu đổi ngoại tệ | C18: Quyển | D18: 1 | E18: 50000 | F18: =D18*E18 -> 50000 | H18: =VLOOKUP(B18,'[1]PL4.1.Vật tư'!$B$5:$L$751,11,0) -> 10000 | I18: =H18*D18 -> 10000 | J18: =I18-F18 -> -40000
A19: 16 | B19: Bánh bao | C19: Cái | D19: 1 | E19: 4000 | F19: =D19*E19 -> 4000 | H19: =VLOOKUP(B19,'[1]PL4.1.Vật tư'!$B$5:$L$751,11,0) -> 4000 | I19: =H19*D19 -> 4000 | J19: =I19-F19 -> 0
A20: 17 | B20: Bánh chocolate | C20: Cái | D20: 20 | E20: 12000 | F20: =D20*E20 -> 240000 | H20: =VLOOKUP(B20,'[1]PL4.1.Vật tư'!$B$5:$L$751,11,0) -> 12000 | I20: =H20*D20 -> 240000 | J20: =I20-F20 -> 0
A21: 18 | B21: Bánh chuối | C21: Cái | D21: 20 | E21: 12000 | F21: =D21*E21 -> 240000 | H21: =VLOOKUP(B21,'[1]PL4.1.Vật tư'!$B$5:$L$751,11,0) -> 10000 | I21: =H21*D21 -> 200000 | J21: =I21-F21 -> -40000
A22: 19 | B22: Bánh crepe | C22: Cái | D22: 5 | E22: 12000 | F22: =D22*E22 -> 60000 | H22: =VLOOKUP(B22,'[1]PL4.1.Vật tư'!$B$5:$L$751,11,0) -> 12000 | I22: =H22*D22 -> 60000 | J22: =I22-F22 -> 0
A23: 20 | B23: Bánh cuộn hạnh nhân | C23: Cái | D23: 5 | E23: 12000 | F23: =D23*E23 -> 60000 | H23: =VLOOKUP(B23,'[1]PL4.1.Vật tư'!$B$5:$L$751,11,0) -> 12000 | I23: =H23*D23 -> 60000 | J23: =I23-F23 -> 0
A24: 21 | B24: Bánh Donut | C24: Cái | D24: 5 | E24: 12000 | F24: =D24*E24 -> 60000 | H24: =VLOOKUP(B24,'[1]PL4.1.Vật tư'!$B$5:$L$751,11,0) -> 12000 | I24: =H24*D24 -> 60000 | J24: =I24-F24 -> 0
A25: 22 | B25: Bánh gato | C25: Cái | D25: 5 | E25: 20000 | F25: =D25*E25 -> 100000 | H25: =VLOOKUP(B25,'[1]PL4.1.Vật tư'!$B$5:$L$751,11,0) -> 20000 | I25: =H25*D25 -> 100000 | J25: =I25-F25 -> 0
A26: 23 | B26: Bánh mì tròn | C26: Cái | D26: 23 | E26: 4000 | F26: =D26*E26 -> 92000 | H26: =VLOOKUP(B26,'[1]PL4.1.Vật tư'!$B$5:$L$751,11,0) -> 4000 | I26: =H26*D26 -> 92000 | J26: =I26-F26 -> 0
... A58: 55 | B58: Biên bản kiểm kê | C58: quyển | D58: 2.3 | E58: 40000 | F58: =D58*E58 -> 92000 | H58: =VLOOKUP(B58,'[1]PL4.1.Vật tư'!$B$5:$L$751,11,0) -> 20000 | I58: =H58*D58 -> 46000 | J58: =I58-F58 -> -46000
A59: 56 | B59: Biên soạn chương trình | C59: trang | D59: 720 | E59: 0 | F59: =D59*E59 -> 0 | I59: =H59*D59 -> 0 | J59: =I59-F59 -> 0
A60: 57 | B60: Biên soạn đề thi cuối khóa | C60: đề | D60: 16 | E60: 0 | F60: =D60*E60 -> 0 | I60: =H60*D60 -> 0 | J60: =I60-F60 -> 0
A61: 58 | B61: Bình xịt hóa chất (2 loại) | C61: bình | D61: 2 | E61: 280000 | F61: =D61*E61 -> 560000 | H61: =VLOOKUP(B61,'[1]PL4.1.Vật tư'!$B$5:$L$751,11,0) -> 85000 | I61: =H61*D61 -> 170000 | J61: =I61-F61 -> -390000
A62: 59 | B62: Bình xịt hóa chất (6 loại) | C62: bình | D62: 24 | E62: 360000 | F62: =D62*E62 -> 8640000 | H62: =VLOOKUP(B62,'[1]PL4.1.Vật tư'!$B$5:$L$751,11,0) -> 85000 | I62: =H62*D62 -> 2040000 | J62: =I62-F62 -> -6600000
A63: 60 | B63: Blue berry puree | C63: chai | D63: 1 | E63: 280000 | F63: =D63*E63 -> 280000 | H63: =VLOOKUP(B63,'[1]PL4.1.Vật tư'!$B$5:$L$751,11,0) -> 280000 | I63: =H63*D63 -> 280000 | J63: =I63-F63 -> 0
A64: 61 | B64: Bơ quả | C64: Kg | D64: 5 | E64: 68000 | F64: =D64*E64 -> 340000 | H64: =VLOOKUP(B64,'[1]PL4.1.Vật tư'!$B$5:$L$751,11,0) -> 68000 | I64: =H64*D64 -> 340000 | J64: =I64-F64 -> 0
A65: 62 | B65: Bơ Anchor | C65: Kg | D65: 1 | E65: 200000 | F65: =D65*E65 -> 200000 | H65: =VLOOKUP(B65,'[1]PL4.1.Vật tư'!$B$5:$L$751,11,0) -> 150000 | I65: =H65*D65 -> 150000 | J65: =I65-F65 -> -50000
A66: 63 | B66: Bơ bột mỳ | C66: Kg | D66: 0.5 | E66: 176000 | F66: =D66*E66 -> 88000 | H66: =VLOOKUP(B66,'[1]PL4.1.Vật tư'!$B$5:$L$751,11,0) -> 50000 | I66: =H66*D66 -> 25000 | J66: =I66-F66 -> -63000
A67: 64 | B67: Bồ công anh | C67: Kg | D67: 2.3 | E67: 200000 | F67: =D67*E67 -> 460000 | H67: =VLOOKUP(B67,'[1]PL4.1.Vật tư'!$B$5:$L$751,11,0) -> 150000 | I67: =H67*D67 -> 345000 | J67: =I67-F67 -> -115000
A68: 65 | B68: Bơ động vật | C68: Kg | D68: 0.5 | E68: 144000 | F68: =D68*E68 -> 72000 | H68: =VLOOKUP(B68,'[1]PL4.1.Vật tư'!$B$5:$L$751,11,0) -> 144000 | I68: =H68*D68 -> 72000 | J68: =I68-F68 -> 0
A69: 66 | B69: Bộ dụng cụ lau nhà (chậu vắt nước + cây lau) | C69: bộ | D69: 1 | E69: 0 | F69: =D69*E69 -> 0 | I69: =H69*D69 -> 0 | J69: =I69-F69 -> 0
A70: 67 | B70: Bơ không màu | C70: Kg | D70: 0.5 | E70: 96000 | F70: =D70*E70 -> 48000 | H70: =VLOOKUP(B70,'[1]PL4.1.Vật tư'!$B$5:$L$751,11,0) -> 96000 | I70: =H70*D70 -> 48000 | J70: =I70-F70 -> 0
A71: 68 | B71: Bộ kim chỉ may vá | C71: bộ | D71: 4 | E71: 40000 | F71: =D71*E71 -> 160000 | H71: =VLOOKUP(B71,'[1]PL4.1.Vật tư'!$B$5:$L$751,11,0) -> 40000 | I71: =H71*D71 -> 160000 | J71: =I71-F71 -> 0
A72: 69 | B72: Bơ miếng | C72: Kg | D72: 1.2 | E72: 120000 | F72: =D72*E72 -> 144000 | H72: =VLOOKUP(B72,'[1]PL4.1.Vật tư'!$B$5:$L$751,11,0) -> 120000 | I72: =H72*D72 -> 144000 | J72: =I72-F72 -> 0
A73: 70 | B73: Bơ thảo mộc | C73: Kg | D73: 2 | E73: 156000 | F73: =D73*E73 -> 312000 | H73: =VLOOKUP(B73,'[1]PL4.1.Vật tư'!$B$5:$L$751,11,0) -> 156000 | I73: =H73*D73 -> 312000 | J73: =I73-F73 -> 0
A74: 71 | B74: Bơ vỉ | C74: vỉ | D74: 2.3 | E74: 96000 | F74: =D74*E74 -> 220800 | H74: =VLOOKUP(B74,'[1]PL4.1.Vật tư'!$B$5:$L$751,11,0) -> 50000 | I74: =H74*D74 -> 115000 | J74: =I74-F74 -> -105800
A75: 72 | B75: Bols Crème De Cacao Banana Liqueur | C75: lít | D75: 1 | E75: 336000 | F75: =D75*E75 -> 336000 | H75: =VLOOKUP(B75,'[1]PL4.1.Vật tư'!$B$5:$L$751,11,0) -> 336000 | I75: =H75*D75 -> 336000 | J75: =I75-F75 -> 0
A76: 73 | B76: Bols Crème De Cacao Brown Liqueur | C76: lít | D76: 1 | E76: 336000 | F76: =D76*E76 -> 336000 | H76: =VLOOKUP(B76,'[1]PL4.1.Vật tư'!$B$5:$L$751,11,0) -> 336000 | I76: =H76*D76 -> 336000 | J76: =I76-F76 -> 0
A77: 74 | B77: Bols Crème De Cacao Dark Liqueur | C77: lít | D77: 1 | E77: 336000 | F77: =D77*E77 -> 336000 | H77: =VLOOKUP(B77,'[1]PL4.1.Vật tư'!$B$5:$L$751,11,0) -> 336000 | I77: =H77*D77 -> 336000 | J77: =I77-F77 -> 0
A78: 75 | B78: Bols Crème De Cacao White Liqueur | C78: lít | D78: 1 | E78: 336000 | F78: =D78*E78 -> 336000 | H78: =VLOOKUP(B78,'[1]PL4.1.Vật tư'!$B$5:$L$751,11,0) -> 336000 | I78: =H78*D78 -> 336000 | J78: =I78-F78 -> 0
A79: 76 | B79: Bols Crème De Menthe | C79: lít | D79: 1 | E79: 336000 | F79: =D79*E79 -> 336000 | H79: =VLOOKUP(B79,'[1]PL4.1.Vật tư'!$B$5:$L$751,11,0) -> 336000 | I79: =H79*D79 -> 336000 | J79: =I79-F79 -> 0
A80: 77 | B80: Bơn sao | C80: Kg | D80: 1.2 | E80: 96000 | F80: =D80*E80 -> 115200 | H80: =VLOOKUP(B80,'[1]PL4.1.Vật tư'!$B$5:$L$751,11,0) -> 96000 | I80: =H80*D80 -> 115200 | J80: =I80-F80 -> 0
A81: 78 | B81: Bông cải trắng | C81: Kg | D81: 1.2 | E81: 40000 | F81: =D81*E81 -> 48000 | H81: =VLOOKUP(B81,'[1]PL4.1.Vật tư'!$B$5:$L$751,11,0) -> 40000 | I81: =H81*D81 -> 48000 | J81: =I81-F81 -> 0
... A83: 80 | B83: Bông ngoáy tai | C83: hộp | D83: 1 | E83: 20000 | F83: =D83*E83 -> 20000 | H83: =VLOOKUP(B83,'[1]PL4.1.Vật tư'!$B$5:$L$751,11,0) -> 20000 | I83: =H83*D83 -> 20000 | J83: =I83-F83 -> 0
A84: 81 | B84: Bóng rổ (phần thực hành) | C84: quả | D84: 1 | E84: 0 | F84: =D84*E84 -> 0 | I84: =H84*D84 -> 0 | J84: =I84-F84 -> 0
A85: 82 | B85: Bông tẩy trang | C85: hộp | D85: 1 | E85: 96000 | F85: =D85*E85 -> 96000 | H85: =VLOOKUP(B85,'[1]PL4.1.Vật tư'!$B$5:$L$751,11,0) -> 30000 | I85: =H85*D85 -> 30000 | J85: =I85-F85 -> -66000
A86: 83 | B86: Bột bánh mỳ | C86: Kg | D86: 1.2 | E86: 41600 | F86: =D86*E86 -> 49920 | H86: =VLOOKUP(B86,'[1]PL4.1.Vật tư'!$B$5:$L$751,11,0) -> 41600 | I86: =H86*D86 -> 49920 | J86: =I86-F86 -> 0
A87: 84 | B87: Bột bánh mỳ vụn | C87: Kg | D87: 0.5 | E87: 120000 | F87: =D87*E87 -> 60000 | H87: =VLOOKUP(B87,'[1]PL4.1.Vật tư'!$B$5:$L$751,11,0) -> 50000 | I87: =H87*D87 -> 25000 | J87: =I87-F87 -> -35000
A88: 85 | B88: Bột bánh ngọt | C88: Kg | D88: 1.15 | E88: 200000 | F88: =D88*E88 -> 230000 | H88: =VLOOKUP(B88,'[1]PL4.1.Vật tư'!$B$5:$L$751,11,0) -> 50000 | I88: =H88*D88 -> 57500 | J88: =I88-F88 -> -172500
A89: 86 | B89: Bột bắp | C89: Kg | D89: 1.38 | E89: 28000 | F89: =D89*E89 -> 38640 | H89: =VLOOKUP(B89,'[1]PL4.1.Vật tư'!$B$5:$L$751,11,0) -> 28000 | I89: =H89*D89 -> 38640 | J89: =I89-F89 -> 0
A90: 87 | B90: Bột cà chua | C90: Kg | D90: 1.2 | E90: 44800 | F90: =D90*E90 -> 53760 | H90: =VLOOKUP(B90,'[1]PL4.1.Vật tư'!$B$5:$L$751,11,0) -> 44800 | I90: =H90*D90 -> 53760 | J90: =I90-F90 -> 0
A91: 88 | B91: Bột Cacao | C91: Kg | D91: 0.7 | E91: 120000 | F91: =D91*E91 -> 84000 | H91: =VLOOKUP(B91,'[1]PL4.1.Vật tư'!$B$5:$L$751,11,0) -> 120000 | I91: =H91*D91 -> 84000 | J91: =I91-F91 -> 0
A92: 89 | B92: Bột caraway | C92: Kg | D92: 0.5 | E92: 108000 | F92: =D92*E92 -> 54000 | H92: =VLOOKUP(B92,'[1]PL4.1.Vật tư'!$B$5:$L$751,11,0) -> 108000 | I92: =H92*D92 -> 54000 | J92: =I92-F92 -> 0
A93: 90 | B93: Bột chiên | C93: Kg | D93: 0.835 | E93: 96000 | F93: =D93*E93 -> 80160 | H93: =VLOOKUP(B93,'[1]PL4.1.Vật tư'!$B$5:$L$751,11,0) -> 60000 | I93: =H93*D93 -> 50100 | J93: =I93-F93 -> -30060
A94: 91 | B94: Bột đao | C94: Kg | D94: 0.5 | E94: 41600 | F94: =D94*E94 -> 20800 | H94: =VLOOKUP(B94,'[1]PL4.1.Vật tư'!$B$5:$L$751,11,0) -> 35000 | I94: =H94*D94 -> 17500 | J94: =I94-F94 -> -3300
A95: 92 | B95: Bột gạo | C95: Kg | D95: 0.5 | E95: 28000 | F95: =D95*E95 -> 14000 | H95: =VLOOKUP(B95,'[1]PL4.1.Vật tư'!$B$5:$L$751,11,0) -> 28000 | I95: =H95*D95 -> 14000 | J95: =I95-F95 -> 0
A96: 93 | B96: Bột giặt | C96: Kg | D96: 4.6 | E96: 76000 | F96: =D96*E96 -> 349600 | H96: =VLOOKUP(B96,'[1]PL4.1.Vật tư'!$B$5:$L$751,11,0) -> 50000 | I96: =H96*D96 -> 230000 | J96: =I96-F96 -> -119600
... A166: 163 | B166: Cây tầm ma | C166: kg | D166: 0.5 | E166: 120000 | F166: =D166*E166 -> 60000 | H166: =VLOOKUP(B166,'[1]PL4.1.Vật tư'!$B$5:$L$751,11,0) -> 120000 | I166: =H166*D166 -> 60000 | J166: =I166-F166 -> 0
A167: 164 | B167: Chăn giường đôi | C167: cái | D167: 4 | E167: 0 | F167: =D167*E167 -> 0 | I167: =H167*D167 -> 0 | J167: =I167-F167 -> 0
A168: 165 | B168: Chăn giường đơn | C168: cái | D168: 4 | E168: 0 | F168: =D168*E168 -> 0 | I168: =H168*D168 -> 0 | J168: =I168-F168 -> 0
A169: 166 | B169: Chanh | C169: kg | D169: 3 | E169: 52000 | F169: =D169*E169 -> 156000 | H169: =VLOOKUP(B169,'[1]PL4.1.Vật tư'!$B$5:$L$751,11,0) -> 30000 | I169: =H169*D169 -> 90000 | J169: =I169-F169 -> -66000
A170: 167 | B170: Chanh leo | C170: kg | D170: 6 | E170: 44000 | F170: =D170*E170 -> 264000 | H170: =VLOOKUP(B170,'[1]PL4.1.Vật tư'!$B$5:$L$751,11,0) -> 30000 | I170: =H170*D170 -> 180000 | J170: =I170-F170 -> -84000
A171: 168 | B171: Chateau Dalat Special Merlot | C171: chai | D171: 1 | E171: 280000 | F171: =D171*E171 -> 280000 | H171: =VLOOKUP(B171,'[1]PL4.1.Vật tư'!$B$5:$L$751,11,0) -> 100000 | I171: =H171*D171 -> 100000 | J171: =I171-F171 -> -180000
A172: 169 | B172: Chateau Dalat Tradition Merlot | C172: chai | D172: 1 | E172: 280000 | F172: =D172*E172 -> 280000 | H172: =VLOOKUP(B172,'[1]PL4.1.Vật tư'!$B$5:$L$751,11,0) -> 100000 | I172: =H172*D172 -> 100000 | J172: =I172-F172 -> -180000
A173: 170 | B173: Chateau Reserva Merlot | C173: chai | D173: 1 | E173: 336000 | F173: =D173*E173 -> 336000 | H173: =VLOOKUP(B173,'[1]PL4.1.Vật tư'!$B$5:$L$751,11,0) -> 265000 | I173: =H173*D173 -> 265000 | J173: =I173-F173 -> -71000
A174: 171 | B174: Chateau Special Cabernet Sauvignon | C174: chai | D174: 1 | E174: 336000 | F174: =D174*E174 -> 336000 | H174: =VLOOKUP(B174,'[1]PL4.1.Vật tư'!$B$5:$L$751,11,0) -> 255000 | I174: =H174*D174 -> 255000 | J174: =I174-F174 -> -81000
A175: 172 | B175: Xây dựng mới ngân hàng đề thi trắc nghiệm | C175: câu | D175: 750 | E175: 0 | F175: =D175*E175 -> 0 | H175: =VLOOKUP(B175,'[1]PL4.1.Vật tư'!$B$5:$L$751,11,0) -> 10000 | I175: =H175*D175 -> 7500000 | J175: =I175-F175 -> 7500000
A176: 173 | B176: Chìa khóa buồng/Thẻ từ | C176: cái | D176: 2 | E176: 0 | F176: =D176*E176 -> 0 | I176: =H176*D176 -> 0 | J176: =I176-F176 -> 0
A177: 174 | B177: Chim bồ câu | C177: kg | D177: 2.3 | E177: 148000 | F177: =D177*E177 -> 340400 | H177: =VLOOKUP(B177,'[1]PL4.1.Vật tư'!$B$5:$L$751,11,0) -> 148000 | I177: =H177*D177 -> 340400 | J177: =I177-F177 -> 0
A178: 175 | B178: Chổi cọ có cán | C178: cái | D178: 10 | E178: 50000 | F178: =D178*E178 -> 500000 | H178: =VLOOKUP(B178,'[1]PL4.1.Vật tư'!$B$5:$L$751,11,0) -> 40000 | I178: =H178*D178 -> 400000 | J178: =I178-F178 -> -100000
A179: 176 | B179: Chổi quét | C179: cái | D179: 5 | E179: 50000 | F179: =D179*E179 -> 250000 | H179: =VLOOKUP(B179,'[1]PL4.1.Vật tư'!$B$5:$L$751,11,0) -> 30000 | I179: =H179*D179 -> 150000 | J179: =I179-F179 -> -100000
A180: 177 | B180: Chuối | C180: quả | D180: 24 | E180: 4000 | F180: =D180*E180 -> 96000 | H180: =VLOOKUP(B180,'[1]PL4.1.Vật tư'!$B$5:$L$751,11,0) -> 4000 | I180: =H180*D180 -> 96000 | J180: =I180-F180 -> 0
A181: 178 | B181: Coca cola | C181: Lon | D181: 16 | E181: 4000 | F181: =D181*E181 -> 64000 | H181: =VLOOKUP(B181,'[1]PL4.1.Vật tư'!$B$5:$L$751,11,0) -> 4000 | I181: =H181*D181 -> 64000 | J181: =I181-F181 -> 0
A182: 179 | B182: Rượu Cointreau | C182: chai | D182: 1 | E182: 360000 | F182: =D182*E182 -> 360000 | H182: =VLOOKUP(B182,'[1]PL4.1.Vật tư'!$B$5:$L$751,11,0) -> 350000 | I182: =H182*D182 -> 350000 | J182: =I182-F182 -> -10000
A183: 180 | B183: Cốm nhiều màu | C183: kg | D183: 2.3 | E183: 127200 | F183: =D183*E183 -> 292560 | H183: =VLOOKUP(B183,'[1]PL4.1.Vật tư'!$B$5:$L$751,11,0) -> 127200 | I183: =H183*D183 -> 292560 | J183: =I183-F183 -> 0
A184: 181 | B184: Cồn nước 90 độ | C184: lít | D184: 1.2 | E184: 96000 | F184: =D184*E184 -> 115200 | H184: =VLOOKUP(B184,'[1]PL4.1.Vật tư'!$B$5:$L$751,11,0) -> 30000 | I184: =H184*D184 -> 36000 | J184: =I184-F184 -> -79200
A185: 182 | B185: Củ cải | C185: kg | D185: 5 | E185: 40000 | F185: =D185*E185 -> 200000 | H185: =VLOOKUP(B185,'[1]PL4.1.Vật tư'!$B$5:$L$751,11,0) -> 30000 | I185: =H185*D185 -> 150000 | J185: =I185-F185 -> -50000
A186: 183 | B186: Củ cải đỏ | C186: kg | D186: 2.3 | E186: 40000 | F186: =D186*E186 -> 92000 | H186: =VLOOKUP(B186,'[1]PL4.1.Vật tư'!$B$5:$L$751,11,0) -> 40000 | I186: =H186*D186 -> 92000 | J186: =I186-F186 -> 0
A187: 184 | B187: Củ dền | C187: kg | D187: 2 | E187: 40000 | F187: =D187*E187 -> 80000 | H187: =VLOOKUP(B187,'[1]PL4.1.Vật tư'!$B$5:$L$751,11,0) -> 40000 | I187: =H187*D187 -> 80000 | J187: =I187-F187 -> 0
A188: 185 | B188: Củ hạ đen | C188: kg | D188: 1.15 | E188: 120000 | F188: =D188*E188 -> 138000 | H188: =VLOOKUP(B188,'[1]PL4.1.Vật tư'!$B$5:$L$751,11,0) -> 30000 | I188: =H188*D188 -> 34500 | J188: =I188-F188 -> -103500
... A196: 193 | B196: Danh mục đồ uống | C196: quyển | D196: 1 | E196: 50000 | F196: =D196*E196 -> 50000 | H196: =VLOOKUP(B196,'[1]PL4.1.Vật tư'!$B$5:$L$751,11,0) -> 30000 | I196: =H196*D196 -> 30000 | J196: =I196-F196 -> -20000
A197: 194 | B197: Danh sách các đơn vị cung cấp hàng hóa | C197: quyển | D197: 1 | E197: 0 | F197: =D197*E197 -> 0 | I197: =H197*D197 -> 0 | J197: =I197-F197 -> 0
A198: 195 | B198: Danh sách các loại hàng hóa | C198: quyển | D198: 1 | E198: 0 | F198: =D198*E198 -> 0 | I198: =H198*D198 -> 0 | J198: =I198-F198 -> 0
A199: 196 | B199: Danh sách các loại sản phẩm, dịch vụ | C199: quyển | D199: 1 | E199: 0 | F199: =D199*E199 -> 0 | I199: =H199*D199 -> 0 | J199: =I199-F199 -> 0
A200: 197 | B200: Danh sách khách đến | C200: quyển | D200: 1 | E200: 0 | F200: =D200*E200 -> 0 | I200: =H200*D200 -> 0 | J200: =I200-F200 -> 0
A201: 198 | B201: Danh sách khách đi | C201: quyển | D201: 1 | E201: 0 | F201: =D201*E201 -> 0 | I201: =H201*D201 -> 0 | J201: =I201-F201 -> 0
A202: 199 | B202: Danh sách kiểm tra | C202: quyển | D202: 10 | E202: 0 | F202: =D202*E202 -> 0 | I202: =H202*D202 -> 0 | J202: =I202-F202 -> 0
A203: 200 | B203: Dập ghim | C203: cái | D203: 3.76 | E203: 0 | F203: =D203*E203 -> 0 | I203: =H203*D203 -> 0 | J203: =I203-F203 -> 0
A204: 201 | B204: Dầu ăn | C204: lít | D204: 10 | E204: 28000 | F204: =D204*E204 -> 280000 | H204: =VLOOKUP(B204,'[1]PL4.1.Vật tư'!$B$5:$L$751,11,0) -> 28000 | I204: =H204*D204 -> 280000 | J204: =I204-F204 -> 0
A205: 202 | B205: Đậu bắp | C205: Kg | D205: 1.15 | E205: 40000 | F205: =D205*E205 -> 46000 | H205: =VLOOKUP(B205,'[1]PL4.1.Vật tư'!$B$5:$L$751,11,0) -> 25000 | I205: =H205*D205 -> 28750 | J205: =I205-F205 -> -17250
A206: 203 | B206: Đậu cove | C206: Kg | D206: 1.15 | E206: 40000 | F206: =D206*E206 -> 46000 | H206: =VLOOKUP(B206,'[1]PL4.1.Vật tư'!$B$5:$L$751,11,0) -> 40000 | I206: =H206*D206 -> 46000 | J206: =I206-F206 -> 0
A207: 204 | B207: Dầu điều | C207: lít | D207: 0.46 | E207: 148000 | F207: =D207*E207 -> 68080 | H207: =VLOOKUP(B207,'[1]PL4.1.Vật tư'!$B$5:$L$751,11,0) -> 148000 | I207: =H207*D207 -> 68080 | J207: =I207-F207 -> 0
A208: 205 | B208: Đậu đũa | C208: Kg | D208: 0.3 | E208: 40000 | F208: =D208*E208 -> 12000 | H208: =VLOOKUP(B208,'[1]PL4.1.Vật tư'!$B$5:$L$751,11,0) -> 25000 | I208: =H208*D208 -> 7500 | J208: =I208-F208 -> -4500
...

Sheet PL5.Điện nước
B1: Phụ lục 5:
A2: DỰ TOÁN CHI PHÍ TIÊU HAO ĐIỆN, NƯỚC
A3: A. TIÊU HAO ĐIỆN
A4: TT | B4: Tên thiết bị | C4: Số lượng thiết bị sử dụng | D4: Số giờ sử dụng | E4: Công suất thiết bị | F4: Công suất TB (W) | G4: Tổng tiêu hao (KW) | H4: Đơn giá | I4: Thành tiền
A5: A | B5: Phòng học lý thuyết các môn học chung
A6: 1 | B6: Đèn điện | C6: 10 | D6: 1205 | E6: 80 | F6: 0.08 | G6: 964 | H6: 2740 | I6: =G6*H6 -> 2641360
A7: 2 | B7: Quạt cây | C7: 3 | D7: 720 | E7: 135 | F7: 0.135 | G7: 292 | H7: 2740 | I7: =G7*H7 -> 800080
A8: 3 | B8: Quạt trần | C8: 6 | D8: 580 | E8: 80 | F8: 0.08 | G8: 278 | H8: 2740 | I8: =G8*H8 -> 761720
A9: 4 | B9: Máy chiếu | C9: 1 | D9: 1205 | E9: 650 | F9: 0.65 | G9: 783 | H9: 2740 | I9: =G9*H9 -> 2145420
A10: 5 | B10: Máy photocopy | C10: 1 | D10: 300 | E10: 1500 | F10: 1.5 | G10: 450 | H10: 2740 | I10: =G10*H10 -> 1233000
A11: 6 | B11: Ti vi 54 inch | C11: 1 | D11: 250 | E11: 102 | F11: 0.102 | G11: 26 | H11: 2740 | I11: =G11*H11 -> 71240
A12: 7 | B12: Máy tính | C12: 1 | D12: 1205 | E12: 814 | F12: 0.814 | G12: 981 | H12: 2740 | I12: =G12*H12 -> 2687940
A13: 8 | B13: Đầu DVD 102W | C13: 1 | D13: 385 | E13: 200 | F13: 0.2 | G13: 77 | H13: 2740 | I13: =G13*H13 -> 210980
A14: 9 | B14: Điều hoà nhiệt độ | C14: 2 | D14: 180 | E14: 2000 | F14: 2 | G14: 720 | H14: 2740 | I14: =G14*H14 -> 1972800
A15: 10 | B15: Máy in | C15: 1 | D15: 100 | E15: 550 | F15: 0.55 | G15: 55 | H15: 2740 | I15: =G15*H15 -> 150700
B16: Cộng | G16: 4626
A17: B | B17: Phòng thực hành bàn, bar, lễ tân
A18: 1 | B18: Tivi 54 inch | C18: 1 | D18: 120 | E18: 102 | F18: 0.102 | G18: 12 | H18: 2740 | I18: =G18*H18 -> 32880
A19: 2 | B19: Điều hoà nhiệt độ | C19: 3 | D19: 180 | E19: 2000 | F19: 2 | G19: 1080 | H19: 2740 | I19: =G19*H19 -> 2959200
A20: 3 | B20: Đèn điện | C20: 12 | D20: 180 | E20: 80 | F20: 0.08 | G20: 173 | H20: 2740 | I20: =G20*H20 -> 474020
A21: 4 | B21: Đầu DVD | C21: 1 | D21: 100 | E21: 200 | F21: 0.2 | G21: 20 | H21: 2740 | I21: =G21*H21 -> 54800
A22: 5 | B22: Quạt cây | C22: 3 | D22: 90 | E22: 130 | F22: 0.13 | G22: 35 | H22: 2740 | I22: =G22*H22 -> 95900
A23: 6 | B23: Máy chiếu | C23: 1 | D23: 2000 | E23: 650 | F23: 0.65 | G23: 1300 | H23: 2740 | I23: =G23*H23 -> 3562000
A24: 7 | B24: Máy vi tính | C24: 17 | D24: 430 | E24: 814 | F24: 0.814 | G24: 5950 | H24: 2740 | I24: =G24*H24 -> 16303000
A25: 8 | B25: Máy in | C25: 1 | D25: 50 | E25: 550 | F25: 0.55 | G25: 28 | H25: 2740 | I25: =G25*H25 -> 76720
A26: 9 | B26: Máy xay đa năng | C26: 2 | D26: 1000 | E26: 650 | F26: 0.65 | G26: 1300 | H26: 2740 | I26: =G26*H26 -> 3562000
A27: 10 | B27: Máy rửa cốc chén | C27: 2 | D27: 850 | E27: 3500 | F27: 3.5 | G27: 5950 | H27: 2740 | I27: =G27*H27 -> 16303000
A28: 11 | B28: Tủ lạnh của quầy Bar | C28: 1 | D28: 21600 | E28: 120 | F28: 0.12 | G28: 2592 | H28: 2740 | I28: =G28*H28 -> 7102080
A29: 12 | B29: Máy làm đá | C29: 1 | D29: 21600 | E29: 750 | F29: 0.75 | G29: 16200 | H29: 2740 | I29: =G29*H29 -> 44388000
... A51: 34 | B51: Máy sấy và diệt khuẩn bát đĩa | C51: 1 | D51: 500 | E51: 2500 | F51: 2.5 | G51: 1250 | H51: 2740 | I51: =G51*H51 -> 3425000
B52: Cộng | G52: 55563
A53: C | B53: Phòng thực hành nghiệp vụ buồng
A54: 1 | B54: Quạt trần | C54: 4 | D54: 200 | E54: 80 | F54: 0.08 | G54: 64 | H54: 2740 | I54: =G54*H54 -> 175360
A55: 2 | B55: Đèn điện | C55: 12 | D55: 430 | E55: 80 | F55: 0.08 | G55: 413 | H55: 2740 | I55: =G55*H55 -> 1131620
A56: 3 | B56: Máy chiếu | C56: 1 | D56: 430 | E56: 440 | F56: 0.44 | G56: 189 | H56: 2740 | I56: =G56*H56 -> 517860
A57: 4 | B57: Tivi | C57: 1 | D57: 355 | E57: 102 | F57: 0.102 | G57: 36 | H57: 2740 | I57: =G57*H57 -> 98640
A58: 5 | B58: Điều hoà nhiệt độ | C58: 2 | D58: 430 | E58: 2000 | F58: 2 | G58: 1720 | H58: 2740 | I58: =G58*H58 -> 4712800
A59: 6 | B59: Tủ lạnh di động | C59: 1 | D59: 21600 | E59: 80 | F59: 0.08 | G59: 1728 | H59: 2740 | I59: =G59*H59 -> 4734720
A60: 7 | B60: Máy sấy tóc | C60: 2 | D60: 10 | E60: 1000 | F60: 1 | G60: 20 | H60: 2740 | I60: =G60*H60 -> 54800
A61: 8 | B61: Bàn ủi | C61: 1 | D61: 5 | E61: 2400 | F61: 2.4 | G61: 12 | H61: 2740 | I61: =G61*H61 -> 32880
A62: 9 | B62: Bàn ủi hơi nước | C62: 1 | D62: 5 | E62: 2400 | F62: 2.4 | G62: 12 | H62: 2740 | I62: =G62*H62 -> 32880
B63: Cộng | G63: 4194
A64: D | B64: Phòng thực hành ngoại ngữ (phòng lab)
A65: 1 | B65: Quạt trần | C65: 8 | D65: 200 | E65: 80 | F65: 0.08 | G65: 128 | H65: 2740 | I65: =G65*H65 -> 350720
A66: 2 | B66: Máy vi tính | C66: 16 | D66: 430 | E66: 814 | F66: 0.814 | G66: 5600 | H66: 2740 | I66: =G66*H66 -> 15344000
A67: 3 | B67: Đèn điện | C67: 12 | D67: 430 | E67: 80 | F67: 0.08 | G67: 413 | H67: 2740 | I67: =G67*H67 -> 1131620
A68: 4 | B68: Máy chiếu | C68: 1 | D68: 430 | E68: 440 | F68: 0.44 | G68: 189 | H68: 2740 | I68: =G68*H68 -> 517860
A69: 5 | B69: Tivi | C69: 1 | D69: 355 | E69: 102 | F69: 0.102 | G69: 36 | H69: 2740 | I69: =G69*H69 -> 98640
A70: 6 | B70: Điều hoà nhiệt độ | C70: 4 | D70: 430 | E70: 2000 | F70: 2 | G70: 3440 | H70: 2740 | I70: =G70*H70 -> 9425600
A71: 7 | B71: Quạt cây | C71: 4 | D71: 200 | E71: 130 | F71: 0.13 | G71: 104 | H71: 2740 | I71: =G71*H71 -> 284960
A72: 8 | B72: Máy in | C72: 1 | D72: 255 | E72: 550 | F72: 0.55 | G72: 140 | H72: 2740 | I72: =G72*H72 -> 383600
B73: Cộng | G73: 10051
A74: E | B74: Phòng thực hành chế biến món ăn
A75: 1 | B75: Đèn điện 80w | C75: 16 | D75: 784 | E75: 80 | F75: 0.88 | G75: 11039 | H75: 2740 | I75: =G75*H75 -> 30246860
A76: 2 | B76: Máy tính | C76: 1 | D76: 500 | E76: 550 | F76: 1.2 | G76: 600 | H76: 2740 | I76: =G76*H76 -> 1644000
A77: 3 | B77: Máy chiếu | C77: 1 | D77: 500 | E77: 440 | F77: 0.44 | G77: 220 | H77: 2740 | I77: =G77*H77 -> 602800
A78: 4 | B78: Máy lạnh 2000w | C78: 2 | D78: 500 | E78: 2000 | F78: 2 | G78: 2000 | H78: 2740 | I78: =G78*H78 -> 5480000
A79: 5 | B79: Máy giã khoai tây | C79: 1 | D79: 200 | E79: 1000 | F79: 0.5 | G79: 100 | H79: 2740 | I79: =G79*H79 -> 274000
A80: 6 | B80: Máy pha cà phê | C80: 1 | D80: 200 | E80: 2000 | F80: 1.1 | G80: 220 | H80: 2740 | I80: =G80*H80 -> 602800
A81: 7 | B81: Lò vi sóng | C81: 1 | D81: 200 | E81: 2000 | F81: 2.1 | G81: 420 | H81: 2740 | I81: =G81*H81 -> 1150800
A82: 8 | B82: Nồi hấp / Nồi hơi đa năng | C82: 1 | D82: 200 | E82: 2000 | F82: 1 | G82: 200 | H82: 2740 | I82: =G82*H82 -> 548000
A83: 9 | B83: Máy xay sinh tố | C83: 1 | D83: 200 | E83: 650 | F83: 0.6 | G83: 120 | H83: 2740 | I83: =G83*H83 -> 328800
A84: 10 | B84: Máy chạy điện ép chanh | C84: 1 | D84: 200 | E84: 650 | F84: 0.3 | G84: 60 | H84: 2740 | I84: =G84*H84 -> 164400
A85: 11 | B85: Lò nướng bánh mỳ gối | C85: 1 | D85: 200 | E85: 1000 | F85: 1.3 | G85: 260 | H85: 2740 | I85: =G85*H85 -> 712400
A86: 12 | B86: Máy nấu khí/hơi đa năng | C86: 1 | D86: 100 | E86: 2000 | F86: 4.5 | G86: 450 | H86: 2740 | I86: =G86*H86 -> 1233000
... A93: 19 | B93: Tủ mát bảo quản nguyên liệu | C93: 1 | D93: 500 | E93: 650 | F93: 1.2 | G93: 600 | H93: 2740 | I93: =G93*H93 -> 1644000
B94: Cộng | G94: 17991
B95: Tổng chi phí tiêu hao điện | G95: 92725 | I95: =G95*2740 -> 254066500 | J95: =I95*1897*1.1/2740 -> 1.9348926e+08
A97: B | B97: GAS HỌC THỰC HÀNH
A98: TT | B98: Nội dung | C98: Đơn vị tính | D98: Định mức/h | E98: Số giờ học | F98: Số sinh viên, GV | G98: Tổng số tiêu hao | H98: Đơn giá | I98: Thành tiền
A99: 1 | B99: Gas học thực hành | C99: Kg | D99: 0.3 | E99: 340 | F99: 16 | G99: =D99*E99*F99 -> 1632 | H99: 23000 | I99: =G99*H99 -> 37536000
B100: Cộng chi phí tiêu hao gas | I100: =SUM(I99) -> 37536000 | J100: =290000/13*G99 -> 36406154
A103: C | B103: TIÊU HAO NƯỚC
A104: TT | B104: Nội dung | C104: ĐVT | D104: Số lượng (m3 hoặc lít) | E104: Số ngày học giờ học | F104: SL HS, GV | G104: Tổng số tiêu hao | H104: Đơn giá | I104: Thành tiền
A105: 1 | B105: Nước học thực hành | C105: m3 | D105: 0.1 | E105: 3824 | F105: 16 | G105: =D105*E105*F105 -> 6118.4 | H105: 14500 | I105: =G105*H105 -> 88716800
A106: 2 | B106: Nước vệ sinh | C106: m3 | D106: 0.03 | E106: 1960 | F106: 16 | G106: =D106*E106*F106 -> 940.8 | H106: 14500 | I106: =G106*H106 -> 13641600
B107: Tổng chi phí tiêu hao nước | G107: =SUM(G105:G106) -> 7059.2 | I107: =I105+I106 -> 1.023584e+08 | J107: =I107 -> 1.023584e+08
F109: Tổng số tiền điện, nước, ga: | I109: =I95+I100+I107 -> 393960900 | J109: =J95+J100+J107 -> 3.3225381e+08

Sheet PL6. Sua chua TX
B1: Phụ lục 6:
A2: DỰ TOÁN CHI PHÍ SỬA CHỮA NHỎ TÀI SẢN, TRANG THIẾT BỊ ĐÀO TẠO
A5: 1. Sửa chữa máy móc, trang thiết bị
A6: STT | B6: Tên/hạng mục thiết bị, dụng cụ sửa chữa, thay thế | C6: Đơn | D6: Số lượt sửa chữa, thay thế | E6: Đơn giá | F6: Thành tiền | G6: Ghi chú | J6: consolidate
C7: vị tính | L7: Đơn giá RS | M7: Thành tiền RS
A8: 1 | B8: Quạt trần 80W | C8: Cái | D8: 5 | E8: 200000 | F8: =D8*E8 -> 1000000 | G8: Thay mới hoặc sửa chữa mô tơ, điện | J8: Quạt trần 80W | K8: 200000 | L8: 200000 | M8: =L8*D8 -> 1000000
A9: 2 | B9: Máy vi tính 814 w | C9: Bộ | D9: 5 | E9: 1000000 | F9: =D9*E9 -> 5000000 | G9: Thay nguồn, bo mạch, ram | J9: Máy vi tính 814 w | K9: 1000000 | L9: 1000000 | M9: =L9*D9 -> 5000000
A10: 3 | B10: Máy chiếu 440w | C10: Bộ | D10: 3 | E10: 1500000 | F10: =D10*E10 -> 4500000 | G10: Thay đèn, nguồn | J10: Máy chiếu 440w | K10: 1500000 | L10: 1500000 | M10: =L10*D10 -> 4500000
A11: 4 | B11: Tivi 54 inch | C11: Cái | D11: 3 | E11: 500000 | F11: =D11*E11 -> 1500000 | G11: Thay nguồn, sửa card màn hình | J11: Tivi 54 inch | K11: 200000 | L11: 200000 | M11: =L11*D11 -> 600000
A12: 5 | B12: Điều hoà nhiệt độ 2000w | C12: Cái | D12: 5 | E12: 500000 | F12: =D12*E12 -> 2500000 | G12: Thay nguồn, sửa bo mạch | J12: Điều hoà nhiệt độ 2000w | K12: 500000 | L12: 500000 | M12: =L12*D12 -> 2500000
A13: 6 | B13: Máy in | C13: Cái | D13: 2 | E13: 700000 | F13: =D13*E13 -> 1400000 | G13: Thay mực, lô sấy, cuốn giấy | J13: Máy in | K13: 500000 | L13: 500000 | M13: =L13*D13 -> 1000000
A14: 7 | B14: Máy Fax 550w | C14: Cái | D14: 3 | E14: 200000 | F14: =D14*E14 -> 600000 | G14: Thay chip | J14: Máy Fax 550w | K14: 200000 | L14: 200000 | M14: =L14*D14 -> 600000
A15: 8 | B15: Quạt cây 65w | C15: Cái | D15: 3 | E15: 150000 | F15: =D15*E15 -> 450000 | G15: Sửa mô tơ, thay dây điện | J15: Quạt cây 65w | K15: 100000 | L15: 100000 | M15: =L15*D15 -> 300000
A16: 9 | B16: Đèn điện 80w | C16: Cái | D16: 5 | E16: 80000 | F16: =D16*E16 -> 400000 | G16: Thay thế mới | J16: Đèn điện 80w | K16: 80000 | L16: 80000 | M16: =L16*D16 -> 400000
A17: 10 | B17: Máy photocopy | C17: Cái | D17: 3 | E17: 3000000 | F17: =D17*E17 -> 9000000 | G17: Sửa cuốn giấy, lô sấy | J17: Máy photocopy | K17: 200000 | L17: 200000 | M17: =L17*D17 -> 600000
A18: 11 | B18: Đầu DVD 102w | C18: Cái | D18: 3 | E18: 500000 | F18: =D18*E18 -> 1500000 | G18: Thay nguồn | J18: Đầu DVD 102w | K18: 500000 | L18: 500000 | M18: =L18*D18 -> 1500000
E19: Cộng: | F19: =SUM(F8:F18) -> 27850000 | M19: =SUM(M8:M18) -> 18000000
A20: 2. Bảo dưỡng máy móc, trang thiết bị
A21: TT | B21: Hạng mục bảo dưỡng | C21: Đơn | D21: Số thiết bị | E21: Số lần được bảo dưỡng | F21: Đơn giá | G21: Thành tiền | H21: Ghi chú
C22: vị tính | D22: được bảo dưỡng
A23: 1 | B23: Ấm đun nước | C23: Cái | D23: 2 | E23: 6 | F23: 100000 | G23: =D23*E23*F23 -> 1200000 | H23: Bảo dưỡng, sửa chữa, thay thế | J23: Ấm đun nước | K23: 50000 | L23: 50000 | M23: =L23*D23*E23 -> 600000
A24: 2 | B24: Bàn ủi | C24: Cái | D24: 1 | E24: 6 | F24: 100000 | G24: =D24*E24*F24 -> 600000 | H24: Bảo dưỡng, sửa chữa, thay thế | J24: Bàn ủi | K24: 50000 | L24: 50000 | M24: =L24*D24*E24 -> 300000
A25: 3 | B25: Bàn ủi hơi nước | C25: Cái | D25: 1 | E25: 6 | F25: 100000 | G25: =D25*E25*F25 -> 600000 | H25: Bảo dưỡng, sửa chữa, thay thế | J25: Bàn ủi hơi nước | K25: 50000 | L25: 50000 | M25: =L25*D25*E25 -> 300000
A26: 4 | B26: Dao cắt điện | C26: Cái | D26: 1 | E26: 6 | F26: 100000 | G26: =D26*E26*F26 -> 600000 | H26: Bảo dưỡng, sửa chữa, thay thế | J26: Dao cắt điện | K26: 100000 | L26: 100000 | M26: =L26*D26*E26 -> 600000
A27: 5 | B27: Dao điện | C27: Cái | D27: 1 | E27: 6 | F27: 100000 | G27: =D27*E27*F27 -> 600000 | H27: Bảo dưỡng, sửa chữa, thay thế | J27: Dao điện | K27: 100000 | L27: 100000 | M27: =L27*D27*E27 -> 600000
A28: 6 | B28: Điều hoà nhiệt độ | C28: cái | D28: 11 | E28: 6 | F28: 500000 | G28: =D28*E28*F28 -> 33000000 | H28: Bảo dưỡng, sửa chữa, thay thế | J28: Điều hoà nhiệt độ | K28: 500000 | L28: 500000 | M28: =L28*D28*E28 -> 33000000
A29: 7 | B29: Lò nướng bánh mì gối | C29: Cái | D29: 1 | E29: 6 | F29: 250000 | G29: =D29*E29*F29 -> 1500000 | H29: Bảo dưỡng, sửa chữa, thay thế | J29: Lò nướng bánh mì gối | K29: 250000 | L29: 250000 | M29: =L29*D29*E29 -> 1500000
A30: 8 | B30: Lò vi sóng | C30: Cái | D30: 1 | E30: 6 | F30: 250000 | G30: =D30*E30*F30 -> 1500000 | H30: Bảo dưỡng, sửa chữa, thay thế | J30: Lò vi sóng | K30: 250000 | L30: 250000 | M30: =L30*D30*E30 -> 1500000
A31: 9 | B31: Máy cắt vạn năng | C31: Cái | D31: 1 | E31: 6 | F31: 150000 | G31: =D31*E31*F31 -> 900000 | H31: Bảo dưỡng, sửa chữa, thay thế | J31: Máy cắt vạn năng | K31: 150000 | L31: 150000 | M31: =L31*D31*E31 -> 900000
A32: 10 | B32: Máy chạy điện ép chanh | C32: Cái | D32: 1 | E32: 6 | F32: 150000 | G32: =D32*E32*F32 -> 900000 | H32: Bảo dưỡng, sửa chữa, thay thế | J32: Máy chạy điện ép chanh | K32: 150000 | L32: 150000 | M32: =L32*D32*E32 -> 900000
A33: 11 | B33: Máy chiếu | C33: Cái | D33: 2 | E33: 6 | F33: 150000 | G33: =D33*E33*F33 -> 1800000 | H33: Bảo dưỡng, sửa chữa, thay thế | J33: Máy chiếu | K33: 150000 | L33: 150000 | M33: =L33*D33*E33 -> 1800000
A34: 12 | B34: Máy công cụ bếp đa năng | C34: Cái | D34: 1 | E34: 6 | F34: 150000 | G34: =D34*E34*F34 -> 900000 | H34: Bảo dưỡng, sửa chữa, thay thế | J34: Máy công cụ bếp đa năng | K34: 150000 | L34: 150000 | M34: =L34*D34*E34 -> 900000
... A53: 33 | B53: Tủ lạnh di động | C53: cái | D53: 2 | E53: 6 | F53: 100000 | G53: =D53*E53*F53 -> 1200000 | H53: Bảo dưỡng, sửa chữa, thay thế | J53: Tủ lạnh di động | K53: 100000 | L53: 100000 | M53: =L53*D53*E53 -> 1200000
G54: =SUM(G23:G53) -> 134100000 | M54: =SUM(M23:M53) -> 130800000
M55: =M54+M19 -> 148800000
D56: Cộng sửa chữa, bảo dưỡng: | G56: =F19+G54 -> 161950000

Sheet PL7.Quản lý
A1: Phụ lục 7:
A2: DỰ TOÁN CHI PHÍ QUẢN LÝ LỚP HỌC
A4: TT | B4: Nội dung | C4: ĐVT | D4: Số lượng | E4: Đơn giá | F4: Thành tiền | G4: Ghi chú
A5: I | B5: Phụ cấp trách nhiệm
A6: 1 | B6: Chi cho Ban chỉ đạo | C6: Tháng | D6: 36 | E6: =5*800000 -> 4000000 | F6: =D6*E6 -> 144000000 | G6: 5 người x 800000
A7: 2 | B7: Cán bộ quản lý lớp học, điều phối viên | C7: Tháng | D7: 36 | E7: =2*850000 -> 1700000 | F7: =D7*E7 -> 61200000 | G7: 2 người x 850000
A8: 3 | B8: Cán bộ lớp | C8: Tháng | D8: 36 | E8: =2*200000 -> 400000 | F8: =D8*E8 -> 14400000
A9: 4 | B9: Điện thoại, EMS, Internet… | C9: Tháng | D9: 36 | E9: 500000 | F9: =D9*E9 -> 18000000
A10: II | B10: Hội nghị, hội thảo; công tác tuyên truyền; đi lại
A11: 1 | B11: Hội nghị, hội thảo khoảng 40 người/cuộc (bao gồm: In bảng maktet, nước uống, báo cáo, tài liệu,....) | C11: Cuộc | D11: 6 | E11: 3000000 | F11: =D11*E11 -> 18000000
A12: 2 | B12: Công tác tuyên truyền | F12: =D12*E12 -> 0
B13: Quảng cáo trên báo | C13: Số | D13: 4 | E13: 1500000 | F13: =D13*E13 -> 6000000
B14: Quảng cáo trên đài truyền hình | C14: Lần | D14: 4 | E14: 0 | F14: =D14*E14 -> 0
B15: Quảng cáo trên đài truyền thanh các xã, huyện… | C15: Lần | D15: 20 | E15: 0 | F15: =D15*E15 -> 0
B16: Tờ rơi/thông báo tuyển sinh | C16: Tờ | D16: 2000 | E16: 3000 | F16: =D16*E16 -> 6000000
B17: Pa nô | C17: Tấm | D17: 20 | E17: 500000 | F17: =D17*E17 -> 10000000
B18: Áp phích | C18: Tấm | D18: 20 | E18: 400000 | F18: =D18*E18 -> 8000000
B19: Băng zôn | C19: Tấm | D19: 20 | E19: 400000 | F19: =D19*E19 -> 8000000
A20: 3 | B20: Chi phí đi lại dự các Hội nghị triển khai, sơ kết, tổng kết khóa học: Số lượng người theo yêu cầu của cơ quan tổ chức hội nghị | C20: Lần | D20: 10 | E20: 6000000 | F20: =D20*E20 -> 60000000
A21: III | B21: Văn phòng phẩm cho công tác quản lý
A22: 1 | B22: Giấy A4 | C22: Gam | D22: 40 | E22: 70000 | F22: =D22*E22 -> 2800000
A23: 2 | B23: Mực máy in, photo | C23: Hộp | D23: 12 | E23: 1100000 | F23: =D23*E23 -> 13200000
F24: =SUM(F6:F23) -> 369600000

Sheet PL8.Học bổng
A1: Phụ lục 8:
A3: DỰ TOÁN CHI HỌC BỔNG CHO SINH VIÊN
A4: ( Kèm theo Dự toán chi phí Đào tạo thí điểm nghề cao đẳng Quản trị khách sạn của trường Cao đẳng nghề Du lịch Vũng Tàu )
A5: - Căn cứ Nghị định số 49/2010/NĐ-CP ngày 14/5/2010 của Thủ tướng Chính phủ về việc Quy định về miễn, giảm học phí, hỗ trợ chi phí học tập và cơ chế thu, sử dụng học phí đối với cơ sở giáo dục thuộc hệ thống giáo dục quốc dân từ năm học 2010-2011 đến năm học 2014-2015(Tạm tính do chưa có nghị định mới áp dụng cho năm học 2015-2016)
A6: - Căn cứ thực hiện theo Quyết định số 70/2008/QĐ-LĐTBXH ngày 30/12/2008 của Bộ trưởng Bộ Lao động, Thương binh và Xã hội về học bổng khuyến khích dạy nghề;
A8: TT | C8: Mức thu học phí (đ/tháng/SV) | D8: Số tháng/năm học | E8: SL SV | F8: Số tiền chi học bổng | G8: Ghi chú
A9: 1 | B9: Học phí năm học 2019-2020: | C9: 850000 | D9: 10 | E9: 16 | F9: =C9*D9*E9*0.15 -> 20400000 | G9: Trích 15% quĩ học phí để chi học bổng. Mức thu học phí 2021-2022 là mức dự kiến.
A10: 2 | B10: Học phí năm học 2020-2021: | C10: 940000 | D10: 10 | E10: 16 | F10: =C10*D10*E10*0.15 -> 22560000
A11: 3 | B11: Học phí năm học 2021-2022: | C11: 1045000 | D11: 10 | E11: 16 | F11: =C11*D11*E11*0.15 -> 25080000
F12: =SUM(F9:F11) -> 68040000
